BEGIN:VCALENDAR
VERSION:2.0
PRODID:-//Spectrum Outdoor Entertainment - ECPv6.15.20//NONSGML v1.0//EN
CALSCALE:GREGORIAN
METHOD:PUBLISH
X-ORIGINAL-URL:https://spectrumentertainment.com.au
X-WR-CALDESC:Events for Spectrum Outdoor Entertainment
REFRESH-INTERVAL;VALUE=DURATION:PT1H
X-Robots-Tag:noindex
X-PUBLISHED-TTL:PT1H
BEGIN:VTIMEZONE
TZID:Australia/Melbourne
BEGIN:STANDARD
TZOFFSETFROM:+1100
TZOFFSETTO:+1000
TZNAME:AEST
DTSTART:20230401T160000
END:STANDARD
BEGIN:DAYLIGHT
TZOFFSETFROM:+1000
TZOFFSETTO:+1100
TZNAME:AEDT
DTSTART:20230930T160000
END:DAYLIGHT
BEGIN:STANDARD
TZOFFSETFROM:+1100
TZOFFSETTO:+1000
TZNAME:AEST
DTSTART:20240406T160000
END:STANDARD
BEGIN:DAYLIGHT
TZOFFSETFROM:+1000
TZOFFSETTO:+1100
TZNAME:AEDT
DTSTART:20241005T160000
END:DAYLIGHT
BEGIN:STANDARD
TZOFFSETFROM:+1100
TZOFFSETTO:+1000
TZNAME:AEST
DTSTART:20250405T160000
END:STANDARD
BEGIN:DAYLIGHT
TZOFFSETFROM:+1000
TZOFFSETTO:+1100
TZNAME:AEDT
DTSTART:20251004T160000
END:DAYLIGHT
END:VTIMEZONE
BEGIN:VEVENT
DTSTART;TZID=Australia/Melbourne:20241221T163000
DTEND;TZID=Australia/Melbourne:20241221T210000
DTSTAMP:20260425T234635
CREATED:20241204T032037Z
LAST-MODIFIED:20241204T032037Z
UID:1240-1734798600-1734814800@spectrumentertainment.com.au
SUMMARY:Movies Under the Stars - ✨🎄🎅 A Boy Called Christmas 🎅🎄✨
DESCRIPTION:What better way to spend an evening than outdoors watching a movie under the stars! \nThe City of Gold Coast Movies under the Stars program is free\, family-friendly fun on offer from September 2024 through to April 2025 right across the city. \nGather your family and friends\, pack a picnic or take advantage of delicious food options available in the local area. \nEvent starts at 4:30pm with free interactive kids Christmas activities including:\n💃 Christmas Party in the Park – Music\, DJ\, Fun and Games\n🏰 Inflatable obstacle course\n🎨 Christmas craft workshop\n🎭 Roving entertainers\n🍿 Popcorn cart \nThen stay for the movie starting at 7pm! \nMovie: A Boy Called Christmas \nAn ordinary young boy called Nikolas sets out on an extraordinary adventure into the snowy north in search of his father who is on a quest to discover the fabled village of the elves\, Elfhelm. Taking with him a headstrong reindeer called Blitzen and a loyal pet mouse\, Nikolas soon meets his destiny in this magical and endearing story that proves nothing is impossible… \nRating: PG \n*** TICKETS NOT REQUIRED – JUST SHOW UP! *** \nFor more information including updates\, please see the Facebook Event page.  Link is under Website (near map) below.
URL:https://spectrumentertainment.com.au/event/movies-under-the-stars-%e2%9c%a8%f0%9f%8e%84%f0%9f%8e%85-a-boy-called-christmas-%f0%9f%8e%85%f0%9f%8e%84%e2%9c%a8/
LOCATION:Palm Beach Parklands\, 945 Gold Coast Highway\, Palm Beach\, Qld\, 4221\, Australia
CATEGORIES:Outdoor Cinema
ATTACH;FMTTYPE=image/png:https://spectrumentertainment.com.au/wp-content/uploads/2024/11/MUtS-EVENTBRITE-A-Boy-Called-Christmas.png
END:VEVENT
BEGIN:VEVENT
DTSTART;TZID=Australia/Melbourne:20241221T170000
DTEND;TZID=Australia/Melbourne:20241221T210000
DTSTAMP:20260425T234635
CREATED:20241121T124006Z
LAST-MODIFIED:20241122T044931Z
UID:1209-1734800400-1734814800@spectrumentertainment.com.au
SUMMARY:Movies Under the Stars - Elf
DESCRIPTION:What better way to spend an evening than outdoors watching a movie under the stars! \nThe City of Gold Coast Movies under the Stars program is free\, family-friendly fun on offer from September 2024 through to April 2025 right across the city. \nGather your family and friends\, pack a picnic or take advantage of delicious food options available in the local area. \nEvent starts at 5pm with free interactive kids activities and live music. Then stay for the movie starting at 7pm! \nMovie: Elf \nBuddy\, a human\, is raised amongst elves at the North Pole. When he discovers that he is not an elf\, he travels to New York to search for his biological father. \nRating: PG \n*** TICKETS NOT REQUIRED – JUST SHOW UP! *** \nFor more information including updates\, please see the Facebook Event page.  Link is under Website (near map) below.
URL:https://spectrumentertainment.com.au/event/movies-under-the-stars-elf-8/
LOCATION:Broadwater Parklands\, Marine Parade\, Southport\, Qld\, 4215\, Australia
CATEGORIES:Outdoor Cinema
ATTACH;FMTTYPE=image/png:https://spectrumentertainment.com.au/wp-content/uploads/2024/11/EVENTBRITE-Elf.png
END:VEVENT
END:VCALENDAR