BEGIN:VCALENDAR
VERSION:2.0
PRODID:-//Spectrum Outdoor Entertainment - ECPv6.15.20//NONSGML v1.0//EN
CALSCALE:GREGORIAN
METHOD:PUBLISH
X-WR-CALNAME:Spectrum Outdoor Entertainment
X-ORIGINAL-URL:https://spectrumentertainment.com.au
X-WR-CALDESC:Events for Spectrum Outdoor Entertainment
REFRESH-INTERVAL;VALUE=DURATION:PT1H
X-Robots-Tag:noindex
X-PUBLISHED-TTL:PT1H
BEGIN:VTIMEZONE
TZID:Australia/Melbourne
BEGIN:STANDARD
TZOFFSETFROM:+1100
TZOFFSETTO:+1000
TZNAME:AEST
DTSTART:20240406T160000
END:STANDARD
BEGIN:DAYLIGHT
TZOFFSETFROM:+1000
TZOFFSETTO:+1100
TZNAME:AEDT
DTSTART:20241005T160000
END:DAYLIGHT
BEGIN:STANDARD
TZOFFSETFROM:+1100
TZOFFSETTO:+1000
TZNAME:AEST
DTSTART:20250405T160000
END:STANDARD
BEGIN:DAYLIGHT
TZOFFSETFROM:+1000
TZOFFSETTO:+1100
TZNAME:AEDT
DTSTART:20251004T160000
END:DAYLIGHT
BEGIN:STANDARD
TZOFFSETFROM:+1100
TZOFFSETTO:+1000
TZNAME:AEST
DTSTART:20260404T160000
END:STANDARD
BEGIN:DAYLIGHT
TZOFFSETFROM:+1000
TZOFFSETTO:+1100
TZNAME:AEDT
DTSTART:20261003T160000
END:DAYLIGHT
END:VTIMEZONE
BEGIN:VEVENT
DTSTART;TZID=Australia/Melbourne:20250103T190000
DTEND;TZID=Australia/Melbourne:20250103T203000
DTSTAMP:20260425T222121
CREATED:20241220T033231Z
LAST-MODIFIED:20241220T033231Z
UID:1255-1735930800-1735936200@spectrumentertainment.com.au
SUMMARY:Movies Under the Stars - Despicable Me 4
DESCRIPTION:What better way to spend an evening than outdoors watching a movie under the stars! \nThe City of Gold Coast Movies under the Stars program is free\, family-friendly fun on offer from September 2024 through to April 2025 right across the city. \nGather your family and friends\, pack a picnic or take advantage of delicious food options available in the local area. \nMovie starts : 7pm \nMovie: Despicable Me 4 \nGru and Lucy and their girls — Margo\, Edith and Agnes — welcome a new member to the Gru family\, Gru Jr.\, who is intent on tormenting his dad. Meanwhile\, Gru faces a new nemesis in Maxime Le Mal and his femme fatale girlfriend Valentina\, forcing the family to go on the run. \nRating: PG \n*** TICKETS NOT REQUIRED – JUST SHOW UP! *** \nFor more information including updates\, please see the Facebook Event page.  Link is under Website (near map) below.
URL:https://spectrumentertainment.com.au/event/movies-under-the-stars-despicable-me-4-5/
LOCATION:Pratten Park\, Old Burleigh Road\, Broadbeach\, Qld\, 4218\, Australia
CATEGORIES:Outdoor Cinema
ATTACH;FMTTYPE=image/png:https://spectrumentertainment.com.au/wp-content/uploads/2024/11/EVENTBRITE-Despicable-Me-4.png
END:VEVENT
BEGIN:VEVENT
DTSTART;TZID=Australia/Melbourne:20250103T190000
DTEND;TZID=Australia/Melbourne:20250103T210000
DTSTAMP:20260425T222121
CREATED:20241204T042440Z
LAST-MODIFIED:20241204T115419Z
UID:1244-1735930800-1735938000@spectrumentertainment.com.au
SUMMARY:Movies Under the Stars - Despicable Me 4
DESCRIPTION:What better way to spend an evening than outdoors watching a movie under the stars! \nThe City of Gold Coast Movies under the Stars program is free\, family-friendly fun on offer from September 2024 through to April 2025 right across the city. \nGather your family and friends\, pack a picnic or take advantage of delicious food options available in the local area. \nMovie starts : 7pm \nMovie: Despicable Me 4 \nGru and Lucy and their girls — Margo\, Edith and Agnes — welcome a new member to the Gru family\, Gru Jr.\, who is intent on tormenting his dad. Meanwhile\, Gru faces a new nemesis in Maxime Le Mal and his femme fatale girlfriend Valentina\, forcing the family to go on the run. \nRating: PG \n*** TICKETS NOT REQUIRED – JUST SHOW UP! *** \nFor more information including updates\, please see the Facebook Event page.  Link is under Website (near map) below.
URL:https://spectrumentertainment.com.au/event/movies-under-the-stars-despicable-me-4-4/
LOCATION:Pratten Park\, Old Burleigh Road\, Broadbeach\, Qld\, 4218\, Australia
CATEGORIES:Outdoor Cinema
ATTACH;FMTTYPE=image/png:https://spectrumentertainment.com.au/wp-content/uploads/2024/11/EVENTBRITE-Despicable-Me-4.png
END:VEVENT
END:VCALENDAR