BEGIN:VCALENDAR
VERSION:2.0
PRODID:-//Spectrum Outdoor Entertainment - ECPv6.15.20//NONSGML v1.0//EN
CALSCALE:GREGORIAN
METHOD:PUBLISH
X-ORIGINAL-URL:https://spectrumentertainment.com.au
X-WR-CALDESC:Events for Spectrum Outdoor Entertainment
REFRESH-INTERVAL;VALUE=DURATION:PT1H
X-Robots-Tag:noindex
X-PUBLISHED-TTL:PT1H
BEGIN:VTIMEZONE
TZID:Australia/Melbourne
BEGIN:STANDARD
TZOFFSETFROM:+1100
TZOFFSETTO:+1000
TZNAME:AEST
DTSTART:20240406T160000
END:STANDARD
BEGIN:DAYLIGHT
TZOFFSETFROM:+1000
TZOFFSETTO:+1100
TZNAME:AEDT
DTSTART:20241005T160000
END:DAYLIGHT
BEGIN:STANDARD
TZOFFSETFROM:+1100
TZOFFSETTO:+1000
TZNAME:AEST
DTSTART:20250405T160000
END:STANDARD
BEGIN:DAYLIGHT
TZOFFSETFROM:+1000
TZOFFSETTO:+1100
TZNAME:AEDT
DTSTART:20251004T160000
END:DAYLIGHT
BEGIN:STANDARD
TZOFFSETFROM:+1100
TZOFFSETTO:+1000
TZNAME:AEST
DTSTART:20260404T160000
END:STANDARD
BEGIN:DAYLIGHT
TZOFFSETFROM:+1000
TZOFFSETTO:+1100
TZNAME:AEDT
DTSTART:20261003T160000
END:DAYLIGHT
END:VTIMEZONE
BEGIN:VEVENT
DTSTART;TZID=Australia/Melbourne:20250222T170000
DTEND;TZID=Australia/Melbourne:20250222T210000
DTSTAMP:20260425T204800
CREATED:20250203T045018Z
LAST-MODIFIED:20250203T045018Z
UID:1284-1740243600-1740258000@spectrumentertainment.com.au
SUMMARY:Movies Under the Stars - Kung Fu Panda 4
DESCRIPTION:What better way to spend an evening than outdoors watching a movie under the stars! \nThe City of Gold Coast Movies under the Stars program is free\, family-friendly fun on offer from September 2024 through to April 2025 right across the city. \nGather your family and friends\, pack a picnic or take advantage of delicious food options available in the local area. \nEvent starts at 5pm with free interactive kids activities and live music. Then stay for the movie starting at 7pm! \nMovie: Kung Fu Panda 4\nPo is gearing up to become the spiritual leader of his Valley of Peace\, but also needs someone to take his place as Dragon Warrior. As such\, he will train a new kung fu practitioner for the spot and will encounter a villain called the Chameleon who conjures villains from the past. \nRating: PG \n*** TICKETS NOT REQUIRED – JUST SHOW UP! *** \nFor more information including updates\, please see the Facebook Event page.  Link is under Website (near map) below.
URL:https://spectrumentertainment.com.au/event/movies-under-the-stars-kung-fu-panda-4-2/
LOCATION:Bim’Bimba Park\, Gainsborough Drive\, Pimpama\, Qld\, 4209\, Australia
CATEGORIES:Outdoor Cinema
ATTACH;FMTTYPE=image/png:https://spectrumentertainment.com.au/wp-content/uploads/2024/09/EVENTBRITE-Kung-Fu-Panda-4.png
END:VEVENT
END:VCALENDAR