BEGIN:VCALENDAR
VERSION:2.0
PRODID:-//Spectrum Outdoor Entertainment - ECPv6.15.20//NONSGML v1.0//EN
CALSCALE:GREGORIAN
METHOD:PUBLISH
X-WR-CALNAME:Spectrum Outdoor Entertainment
X-ORIGINAL-URL:https://spectrumentertainment.com.au
X-WR-CALDESC:Events for Spectrum Outdoor Entertainment
REFRESH-INTERVAL;VALUE=DURATION:PT1H
X-Robots-Tag:noindex
X-PUBLISHED-TTL:PT1H
BEGIN:VTIMEZONE
TZID:Australia/Melbourne
BEGIN:STANDARD
TZOFFSETFROM:+1100
TZOFFSETTO:+1000
TZNAME:AEST
DTSTART:20240406T160000
END:STANDARD
BEGIN:DAYLIGHT
TZOFFSETFROM:+1000
TZOFFSETTO:+1100
TZNAME:AEDT
DTSTART:20241005T160000
END:DAYLIGHT
BEGIN:STANDARD
TZOFFSETFROM:+1100
TZOFFSETTO:+1000
TZNAME:AEST
DTSTART:20250405T160000
END:STANDARD
BEGIN:DAYLIGHT
TZOFFSETFROM:+1000
TZOFFSETTO:+1100
TZNAME:AEDT
DTSTART:20251004T160000
END:DAYLIGHT
BEGIN:STANDARD
TZOFFSETFROM:+1100
TZOFFSETTO:+1000
TZNAME:AEST
DTSTART:20260404T160000
END:STANDARD
BEGIN:DAYLIGHT
TZOFFSETFROM:+1000
TZOFFSETTO:+1100
TZNAME:AEDT
DTSTART:20261003T160000
END:DAYLIGHT
END:VTIMEZONE
BEGIN:VEVENT
DTSTART;TZID=Australia/Melbourne:20251123T170000
DTEND;TZID=Australia/Melbourne:20251123T210000
DTSTAMP:20260425T095228
CREATED:20251118T074012Z
LAST-MODIFIED:20251123T084900Z
UID:1465-1763917200-1763931600@spectrumentertainment.com.au
SUMMARY:***CANCELLED DUE TO STORM*** Movies Under the Stars - Paddington in Peru
DESCRIPTION:What better way to spend an evening than outdoors watching a movie under the stars! \nThe City of Gold Coast Movies under the Stars program is free\, family-friendly fun on offer from September 2025 through to April 2026 right across the city. \nGather your family and friends\, pack a picnic or take advantage of delicious food options available in the local area. \n \n\nEvent date:  Sunday\, 23 November 2025\nLocation:  Riesenweber Park\, Jacobs Well\nEvent starts at 5.00pm with kids’ activities\, face painting\, live music\, and with food trucks onsite.\nThen stay for the movie starting at 7.00pm!\nMovie: Paddington in Peru\nWhen Paddington discovers his beloved aunt has gone missing from the Home for Retired Bears\, he and the Brown family head to the jungles of Peru to find her. Determined to solve the mystery\, they soon stumble across a legendary treasure as they make their way through the rainforests of the Amazon. \nRating: PG\nLength: 106mins \n*** TICKETS NOT REQUIRED – JUST SHOW UP! *** \nFor more information including updates\, please see the Facebook Event page. Link is under Website (near map) below.
URL:https://spectrumentertainment.com.au/event/movies-under-the-stars-paddington-in-peru-4/
LOCATION:Riesenweber Park\, 27 Bay Drive\, Jacobs Well\, Qld\, 4208\, Australia
CATEGORIES:Outdoor Cinema
ATTACH;FMTTYPE=image/png:https://spectrumentertainment.com.au/wp-content/uploads/2025/09/MUtS-EVENTBRITE-2-PaddingtonInPeru.png
END:VEVENT
END:VCALENDAR