BEGIN:VCALENDAR
VERSION:2.0
PRODID:-//Spectrum Outdoor Entertainment - ECPv6.15.20//NONSGML v1.0//EN
CALSCALE:GREGORIAN
METHOD:PUBLISH
X-WR-CALNAME:Spectrum Outdoor Entertainment
X-ORIGINAL-URL:https://spectrumentertainment.com.au
X-WR-CALDESC:Events for Spectrum Outdoor Entertainment
REFRESH-INTERVAL;VALUE=DURATION:PT1H
X-Robots-Tag:noindex
X-PUBLISHED-TTL:PT1H
BEGIN:VTIMEZONE
TZID:Australia/Melbourne
BEGIN:STANDARD
TZOFFSETFROM:+1100
TZOFFSETTO:+1000
TZNAME:AEST
DTSTART:20250405T160000
END:STANDARD
BEGIN:DAYLIGHT
TZOFFSETFROM:+1000
TZOFFSETTO:+1100
TZNAME:AEDT
DTSTART:20251004T160000
END:DAYLIGHT
BEGIN:STANDARD
TZOFFSETFROM:+1100
TZOFFSETTO:+1000
TZNAME:AEST
DTSTART:20260404T160000
END:STANDARD
BEGIN:DAYLIGHT
TZOFFSETFROM:+1000
TZOFFSETTO:+1100
TZNAME:AEDT
DTSTART:20261003T160000
END:DAYLIGHT
BEGIN:STANDARD
TZOFFSETFROM:+1100
TZOFFSETTO:+1000
TZNAME:AEST
DTSTART:20270403T160000
END:STANDARD
BEGIN:DAYLIGHT
TZOFFSETFROM:+1000
TZOFFSETTO:+1100
TZNAME:AEDT
DTSTART:20271002T160000
END:DAYLIGHT
END:VTIMEZONE
BEGIN:VEVENT
DTSTART;TZID=Australia/Melbourne:20260426T180000
DTEND;TZID=Australia/Melbourne:20260426T200000
DTSTAMP:20260423T075259
CREATED:20260418T074944Z
LAST-MODIFIED:20260418T074944Z
UID:1660-1777226400-1777233600@spectrumentertainment.com.au
SUMMARY:Movies on the Esplanade - Red Dog True Blue
DESCRIPTION:What better way to spend an evening than outdoors watching a movie on the Esplanade at Surfers Paradise! \nThe Movies on the Esplanade program is free\, family-friendly fun on the Esplanade\, Surfers Paradise (at the Hanlan St end\, near Walhburgers). \nGather your family and friends\, and take advantage of delicious food options available in the local area. \nEvent date: Sunday\, 26 April 2026\nDoors at 5pm\nMovie starts: 6:00 pm \nMovie: Red Dog True Blue\nMick\, an eleven-year-old\, befriends a dog when he goes to live with his grandfather in a remote region. Accompanied by the dog\, he goes on many adventures that proves life-changing for both of them. \nRating: PG\nLength: 88mins \nThanks to Cr Darren Taylor\, Division 10. \nFor more information including updates\, please see the Facebook Event page.
URL:https://spectrumentertainment.com.au/event/movies-on-the-esplanade-red-dog-true-blue/
LOCATION:Surfers Paradise People’s Esplanade\, 2 Cavill Avenue\, Surfers Paradise\, Qld\, 4217\, Australia
CATEGORIES:Outdoor Cinema
ATTACH;FMTTYPE=image/png:https://spectrumentertainment.com.au/wp-content/uploads/2026/04/0426.png
END:VEVENT
END:VCALENDAR