BEGIN:VCALENDAR
VERSION:2.0
PRODID:-//Spectrum Outdoor Entertainment - ECPv6.15.20//NONSGML v1.0//EN
CALSCALE:GREGORIAN
METHOD:PUBLISH
X-WR-CALNAME:Spectrum Outdoor Entertainment
X-ORIGINAL-URL:https://spectrumentertainment.com.au
X-WR-CALDESC:Events for Spectrum Outdoor Entertainment
REFRESH-INTERVAL;VALUE=DURATION:PT1H
X-Robots-Tag:noindex
X-PUBLISHED-TTL:PT1H
BEGIN:VTIMEZONE
TZID:Australia/Melbourne
BEGIN:STANDARD
TZOFFSETFROM:+1100
TZOFFSETTO:+1000
TZNAME:AEST
DTSTART:20250405T160000
END:STANDARD
BEGIN:DAYLIGHT
TZOFFSETFROM:+1000
TZOFFSETTO:+1100
TZNAME:AEDT
DTSTART:20251004T160000
END:DAYLIGHT
BEGIN:STANDARD
TZOFFSETFROM:+1100
TZOFFSETTO:+1000
TZNAME:AEST
DTSTART:20260404T160000
END:STANDARD
BEGIN:DAYLIGHT
TZOFFSETFROM:+1000
TZOFFSETTO:+1100
TZNAME:AEDT
DTSTART:20261003T160000
END:DAYLIGHT
BEGIN:STANDARD
TZOFFSETFROM:+1100
TZOFFSETTO:+1000
TZNAME:AEST
DTSTART:20270403T160000
END:STANDARD
BEGIN:DAYLIGHT
TZOFFSETFROM:+1000
TZOFFSETTO:+1100
TZNAME:AEDT
DTSTART:20271002T160000
END:DAYLIGHT
END:VTIMEZONE
BEGIN:VEVENT
DTSTART;TZID=Australia/Melbourne:20260207T170000
DTEND;TZID=Australia/Melbourne:20260207T203000
DTSTAMP:20260423T080126
CREATED:20260114T065605Z
LAST-MODIFIED:20260114T065605Z
UID:1487-1770483600-1770496200@spectrumentertainment.com.au
SUMMARY:Movies Under the Stars - The Bad Guys 2 🎬
DESCRIPTION:What better way to spend an evening than outdoors watching a movie under the stars! \nThe City of Gold Coast Movies under the Stars program is free\, family-friendly fun on offer from September 2025 through to April 2026 right across the city. \nGather your family and friends\, pack a picnic or take advantage of delicious food options available in the local area. \n\nEvent date:  Saturday\, 7 February 2026\nLocation:  Bim’Bimba Park\, Pimpama\nEvent starts at 5.00pm with kids’ activities\, face painting and with food trucks onsite.\nThen stay for the movie starting at 7.00pm!\n\nMovie: The Bad Guys 2\nThe now-reformed Bad Guys are trying (very\, very hard) to be good\, but instead find themselves hijacked into a high-stakes\, globe-trotting heist\, masterminded by a new team of criminals they never saw coming: The Bad Girls. \nRating: PG\nLength: 103mins \n*** TICKETS NOT REQUIRED – JUST SHOW UP! *** \nFor more information including updates\, please see the Facebook Event page. Link is under Website (near map) below.
URL:https://spectrumentertainment.com.au/event/movies-under-the-stars-the-bad-guys-2-%f0%9f%8e%ac/
LOCATION:Bim’Bimba Park\, Gainsborough Drive\, Pimpama\, Qld\, 4209\, Australia
CATEGORIES:Outdoor Cinema
ATTACH;FMTTYPE=image/png:https://spectrumentertainment.com.au/wp-content/uploads/2026/01/MUtS-EVENTBRITE-The-Bad-Guys-2.png
END:VEVENT
BEGIN:VEVENT
DTSTART;TZID=Australia/Melbourne:20260207T190000
DTEND;TZID=Australia/Melbourne:20260207T203000
DTSTAMP:20260423T080126
CREATED:20260106T125232Z
LAST-MODIFIED:20260114T065719Z
UID:1479-1770490800-1770496200@spectrumentertainment.com.au
SUMMARY:Movies Under the Stars - Ghostbusters: Frozen Empire 👻👻
DESCRIPTION:What better way to spend an evening than outdoors watching a movie under the stars! \nThe City of Gold Coast Movies under the Stars program is free\, family-friendly fun on offer from September 2025 through to April 2026 right across the city. \nGather your family and friends\, pack a picnic or take advantage of delicious food options available in the local area. \n\nEvent date:  Saturday\, 7 February 2026\nLocation:  Macintosh Island Park\, Main Beach\nDoors at 6pm\nMovie starts: 7.00pm\n\nMovie: Ghostbusters: Frozen Empire\nIn Ghostbusters: Frozen Empire\, the Spengler family returns to where it all started – the iconic New York City firehouse – to team up with the original Ghostbusters. \nRating: PG\nLength: 115mins \n*** TICKETS NOT REQUIRED – JUST SHOW UP! *** \nFor more information including updates\, please see the Facebook Event page. Link is under Website (near map) below.
URL:https://spectrumentertainment.com.au/event/movies-under-the-stars-ghostbusters-frozen-empire-4/
LOCATION:Macintosh Island Park\, Main Beach Parade\, Main Beach\, Qld\, 4217\, Australia
CATEGORIES:Outdoor Cinema
ATTACH;FMTTYPE=image/png:https://spectrumentertainment.com.au/wp-content/uploads/2024/09/MUtS-EVENTBRITE-Ghostbusters-Frozen-Empire.png
END:VEVENT
BEGIN:VEVENT
DTSTART;TZID=Australia/Melbourne:20260208T190000
DTEND;TZID=Australia/Melbourne:20260208T203000
DTSTAMP:20260423T080126
CREATED:20260209T010753Z
LAST-MODIFIED:20260209T011450Z
UID:1558-1770577200-1770582600@spectrumentertainment.com.au
SUMMARY:Movies on the Esplanade - Cool Runnings
DESCRIPTION:What better way to spend an evening than outdoors watching a movie on the Esplanade at Surfers Paradise! \nThe Movies on the Esplanade program is free\, family-friendly fun on offer February & March 2026 on the Esplanade (outside the Paradise Centre entrance / Wahlburgers / near the Hanlan St roundabout)\, Surfers Paradise. \n• Sun 8 Feb Cool Runnings @ 7:00 pm\n• Sun 15 Feb The Proposal @ 7:00 pm\n• Sun 22 Feb A Dog’s Journey @ 7:00 pm\n• Sun 1 Mar Kangaroo @ 6:30 pm\n• Sun 8 Mar  A Minecraft Movie @ 6:30 pm\n• Sun 15 Mar No movie due to the T100 event\n• Sun 22 Mar  No movie due to the T100 event\n• Sun 29 Mar  Rise of the Guardians @ 6:30 pm (this event not delivered by Spectrum) \nGather your family and friends\, and take advantage of delicious food options available in the local area. \nEvent date: Sunday\, 8 February 2026\nDoors at 5pm\nMovie starts: 7:00 pm \nMovie: Cool Runnings\nIn honour of the 2026 Winter Olympics we’re screening the true\, inspirational comedy of the first Olympic bobsled team from Jamaica! A Jamaican bobsleigh team fights many odds\, including a reluctant coach\, to compete in the 1988 Winter Olympics. They train in harsh and sunny climes for a sport that chills them to their bones. \nRating: G\nLength: 98mins \nThanks to Cr Darren Taylor\, Division 10. \nFor more information including updates\, please see the Facebook Event page.
URL:https://spectrumentertainment.com.au/event/movies-on-the-esplanade-cool-runnings/
LOCATION:Surfers Paradise People’s Esplanade\, 2 Cavill Avenue\, Surfers Paradise\, Qld\, 4217\, Australia
CATEGORIES:Outdoor Cinema
ATTACH;FMTTYPE=image/png:https://spectrumentertainment.com.au/wp-content/uploads/2026/02/0208-CoolRunnings.png
END:VEVENT
BEGIN:VEVENT
DTSTART;TZID=Australia/Melbourne:20260214T170000
DTEND;TZID=Australia/Melbourne:20260214T210000
DTSTAMP:20260423T080126
CREATED:20260124T042113Z
LAST-MODIFIED:20260211T040011Z
UID:1496-1771088400-1771102800@spectrumentertainment.com.au
SUMMARY:**POSTPONED** Movies Under the Stars - How To Train your Dragon (2025) 🎬🐲
DESCRIPTION:What better way to spend an evening than outdoors watching a movie under the stars! \nThe City of Gold Coast Movies under the Stars program is free\, family-friendly fun on offer from September 2025 through to April 2026 right across the city. \nGather your family and friends\, pack a picnic or take advantage of delicious food options available in the local area. \n\nEvent date:  Saturday\, 14 February 2026\nLocation:  Parkwood Sharks Rugby League Club\, Parkwood\nEvent starts at 5.00pm with kids’ activities\, face painting\, live music\, and with food trucks onsite.\nThen stay for the movie starting at 7.00pm!\n\nMovie: How To Train your Dragon (2025)\nOn the rugged isle of Berk\, a Viking boy named Hiccup defies centuries of tradition by befriending a dragon named Toothless. However\, when an ancient threat emerges that endangers both species\, Hiccup’s friendship with Toothless becomes the key to forging a new future. Together\, they must navigate the delicate path toward peace\, soaring beyond the boundaries of their worlds and redefining what it means to be a hero and a leader. \nRating: PG\nLength: 125mins \n*** TICKETS NOT REQUIRED – JUST SHOW UP! *** \nFor more information including updates\, please see the Facebook Event page. Link is under Website (near map) below.
URL:https://spectrumentertainment.com.au/event/%f0%9f%90%b2-movies-under-the-stars-how-to-train-your-dragon-2025-%f0%9f%8e%ac/
LOCATION:Parkwood Sharks Football Club\, Cnr Olsen Ave & Musgrave Avenue\, Southport\, Qld\, 4215\, Australia
CATEGORIES:Outdoor Cinema
ATTACH;FMTTYPE=image/png:https://spectrumentertainment.com.au/wp-content/uploads/2026/01/MUtS-EVENTBRITE-How-To-Train-Your-Dragon-2025.png
END:VEVENT
BEGIN:VEVENT
DTSTART;TZID=Australia/Melbourne:20260215T000000
DTEND;TZID=Australia/Melbourne:20260215T000000
DTSTAMP:20260423T080126
CREATED:20260209T010832Z
LAST-MODIFIED:20260209T011427Z
UID:1559-1771113600-1771113600@spectrumentertainment.com.au
SUMMARY:Movies on the Esplanade - The Proposal 💕
DESCRIPTION:What better way to celebrate 💖Valentine’s Day💖 than outdoors watching a movie on the Esplanade at Surfers Paradise! \nThe Movies on the Esplanade program is free\, family-friendly fun on offer February & March 2026 on the Esplanade (outside the Paradise Centre entrance / Wahlburgers / near the Hanlan St roundabout)\, Surfers Paradise. \n• Sun 8 Feb Cool Runnings @ 7:00 pm\n• Sun 15 Feb The Proposal @ 7:00 pm\n• Sun 22 Feb A Dog’s Journey @ 7:00 pm\n• Sun 1 Mar Kangaroo @ 6:30 pm\n• Sun 8 Mar  A Minecraft Movie @ 6:30 pm\n• Sun 15 Mar No movie due to the T100 event\n• Sun 22 Mar  No movie due to the T100 event\n• Sun 29 Mar  Rise of the Guardians @ 6:30 pm (this event not delivered by Spectrum) \nGather your family and friends\, and take advantage of delicious food options available in the local area. \nEvent date: Sunday\, 15 February 2026\nDoors at 5pm\nMovie starts: 7:00 pm \nMovie: The Proposal\nIn order to avoid deportation to Canada\, Margaret\, the editor of a publishing firm\, convinces her assistant Andrew to marry her. However\, a trip to Andrew’s hometown leads to unexpected consequences. \nRating: PG\nLength: 108mins \nThanks to Cr Darren Taylor\, Division 10. \nFor more information including updates\, please see the Facebook Event page.
URL:https://spectrumentertainment.com.au/event/movies-on-the-esplanade-the-proposal/
LOCATION:Surfers Paradise People’s Esplanade\, 2 Cavill Avenue\, Surfers Paradise\, Qld\, 4217\, Australia
CATEGORIES:Outdoor Cinema
ATTACH;FMTTYPE=image/png:https://spectrumentertainment.com.au/wp-content/uploads/2026/02/0215-TheProposal.png
END:VEVENT
BEGIN:VEVENT
DTSTART;TZID=Australia/Melbourne:20260221T170000
DTEND;TZID=Australia/Melbourne:20260221T210000
DTSTAMP:20260423T080126
CREATED:20260124T042109Z
LAST-MODIFIED:20260124T042109Z
UID:1497-1771693200-1771707600@spectrumentertainment.com.au
SUMMARY:Movies Under the Stars - A Minecraft Movie ⛏️✨
DESCRIPTION:What better way to spend an evening than outdoors watching a movie under the stars! \nThe City of Gold Coast Movies under the Stars program is free\, family-friendly fun on offer from September 2025 through to April 2026 right across the city. \nGather your family and friends\, pack a picnic or take advantage of delicious food options available in the local area. \n\nEvent date:  Saturday\, 21 February 2026\nLocation:  Paradise Point Parklands\, Paradise Point\nEvent starts at 5.00pm with kids’ activities\, face painting\, live music\, and with food trucks onsite.\nThen stay for the movie starting at 7.00pm!\n\nMovie: A Minecraft Movie\nFour misfits find themselves struggling with ordinary problems when they are suddenly pulled through a mysterious portal into the Overworld: a bizarre\, cubic wonderland that thrives on imagination. To get back home\, they’ll have to master this world while embarking on a magical quest with an unexpected\, expert crafter\, Steve. \nRating: PG\nLength: 101mins \n*** TICKETS NOT REQUIRED – JUST SHOW UP! *** \nFor more information including updates\, please see the Facebook Event page. Link is under Website (near map) below.
URL:https://spectrumentertainment.com.au/event/movies-under-the-stars-a-minecraft-movie-%e2%9b%8f%ef%b8%8f%e2%9c%a8/
LOCATION:Paradise Point Parklands\, The Esplanade\, Paradise Point\, Qld\, 4216\, Australia
CATEGORIES:Outdoor Cinema
ATTACH;FMTTYPE=image/png:https://spectrumentertainment.com.au/wp-content/uploads/2025/09/EVENTBRITE-MinecraftMovie.png
END:VEVENT
BEGIN:VEVENT
DTSTART;TZID=Australia/Melbourne:20260222T190000
DTEND;TZID=Australia/Melbourne:20260222T210000
DTSTAMP:20260423T080126
CREATED:20260209T010847Z
LAST-MODIFIED:20260223T022107Z
UID:1560-1771786800-1771794000@spectrumentertainment.com.au
SUMMARY:🐕 Movies on the Esplanade - A Dog's Journey 🐕
DESCRIPTION:What better way to spend an evening than outdoors watching a movie on the Esplanade at Surfers Paradise! \nThe Movies on the Esplanade program is free\, family-friendly fun on offer February & March 226 on the Esplanade (outside the Paradise Centre entrance / Wahlburgers / near the Hanlan St roundabout)\, Surfers Paradise. \n• Sun 8 Feb Cool Runnings @ 7:00 pm\n• Sun 15 Feb The Proposal @ 7:00 pm\n• Sun 22 Feb A Dog’s Journey @ 7:00 pm\n• Sun 1 Mar Kangaroo @ 6:30 pm\n• Sun 8 Mar  A Minecraft Movie @ 6:30 pm\n• Sun 15 Mar No movie due to the T100 event\n• Sun 22 Mar  No movie due to the T100 event\n• Sun 29 Mar  Rise of the Guardians @ 6:30 pm (this event not delivered by Spectrum) \nGather your family and friends\, and take advantage of delicious food options available in the local area. \nEvent date: Sunday\, 22 February 2026\nDoors at 5pm\nMovie starts: 7:00 pm \nMovie: A Dog’s Journey\nWhen Bailey\, a mixed breed\, promises to protect his master’s granddaughter\, CJ\, he reincarnates four times and stays by her side through thick and thin. \nRating: PG\nLength: 109mins \nThanks to Cr Darren Taylor\, Division 10. \nFor more information including updates\, please see the Facebook Event page.
URL:https://spectrumentertainment.com.au/event/movies-on-the-esplanade-a-dogs-journey/
LOCATION:Surfers Paradise People’s Esplanade\, 2 Cavill Avenue\, Surfers Paradise\, Qld\, 4217\, Australia
CATEGORIES:Outdoor Cinema
ATTACH;FMTTYPE=image/png:https://spectrumentertainment.com.au/wp-content/uploads/2026/02/0222-A-Dogs-Journey.png
END:VEVENT
BEGIN:VEVENT
DTSTART;TZID=Australia/Melbourne:20260228T170000
DTEND;TZID=Australia/Melbourne:20260228T203000
DTSTAMP:20260423T080126
CREATED:20260203T064839Z
LAST-MODIFIED:20260204T032505Z
UID:1510-1772298000-1772310600@spectrumentertainment.com.au
SUMMARY:Movies Under the Stars - The Bad Guys 2
DESCRIPTION:What better way to spend an evening than outdoors watching a movie under the stars! \nThe City of Gold Coast Movies under the Stars program is free\, family-friendly fun on offer from September 2025 through to April 2026 right across the city. \nGather your family and friends\, pack a picnic or take advantage of delicious food options available in the local area. \n\nEvent date:  Saturday\, 28 February 2026\nLocation:  Elanora State High School\, Elanora\nEvent starts at 5.00pm with activities including:\n🏰 Kids’ and toddlers’ inflatable obstacle courses by 1st Fives Inflatables\n🏓Interactive games from Gecko Sports\n🌭Lions Club charity sausage sizzle\n🍦Ice cream van\nThen stay for the movie starting at 7.00pm!\n\nMovie: The Bad Guys 2\nThe now-reformed Bad Guys are trying (very\, very hard) to be good\, but instead find themselves hijacked into a high-stakes\, globe-trotting heist\, masterminded by a new team of criminals they never saw coming: The Bad Girls. \nRating: PG\nLength: 103mins \n*** TICKETS NOT REQUIRED – JUST SHOW UP! *** \nFor more information including updates\, please see the Facebook Event page. Link is under Website (near map) below.
URL:https://spectrumentertainment.com.au/event/movies-under-the-stars-the-bad-guys-2/
LOCATION:Elanora State High School\, 261 Nineteenth Avenue\, Elanora\, Queensland\, 4221\, Australia
CATEGORIES:Outdoor Cinema
ATTACH;FMTTYPE=image/png:https://spectrumentertainment.com.au/wp-content/uploads/2026/01/MUtS-EVENTBRITE-The-Bad-Guys-2.png
END:VEVENT
END:VCALENDAR