BEGIN:VCALENDAR
VERSION:2.0
PRODID:-//Spectrum Outdoor Entertainment - ECPv6.15.20//NONSGML v1.0//EN
CALSCALE:GREGORIAN
METHOD:PUBLISH
X-ORIGINAL-URL:https://spectrumentertainment.com.au
X-WR-CALDESC:Events for Spectrum Outdoor Entertainment
REFRESH-INTERVAL;VALUE=DURATION:PT1H
X-Robots-Tag:noindex
X-PUBLISHED-TTL:PT1H
BEGIN:VTIMEZONE
TZID:Australia/Melbourne
BEGIN:STANDARD
TZOFFSETFROM:+1100
TZOFFSETTO:+1000
TZNAME:AEST
DTSTART:20250405T160000
END:STANDARD
BEGIN:DAYLIGHT
TZOFFSETFROM:+1000
TZOFFSETTO:+1100
TZNAME:AEDT
DTSTART:20251004T160000
END:DAYLIGHT
BEGIN:STANDARD
TZOFFSETFROM:+1100
TZOFFSETTO:+1000
TZNAME:AEST
DTSTART:20260404T160000
END:STANDARD
BEGIN:DAYLIGHT
TZOFFSETFROM:+1000
TZOFFSETTO:+1100
TZNAME:AEDT
DTSTART:20261003T160000
END:DAYLIGHT
BEGIN:STANDARD
TZOFFSETFROM:+1100
TZOFFSETTO:+1000
TZNAME:AEST
DTSTART:20270403T160000
END:STANDARD
BEGIN:DAYLIGHT
TZOFFSETFROM:+1000
TZOFFSETTO:+1100
TZNAME:AEDT
DTSTART:20271002T160000
END:DAYLIGHT
END:VTIMEZONE
BEGIN:VEVENT
DTSTART;TZID=Australia/Melbourne:20260314T163000
DTEND;TZID=Australia/Melbourne:20260314T203000
DTSTAMP:20260423T080952
CREATED:20260203T064535Z
LAST-MODIFIED:20260203T064535Z
UID:1511-1773505800-1773520200@spectrumentertainment.com.au
SUMMARY:Movies Under the Stars - Kung Fu Panda 4
DESCRIPTION:What better way to spend an evening than outdoors watching a movie under the stars! \nThe City of Gold Coast Movies under the Stars program is free\, family-friendly fun on offer from September 2025 through to April 2026 right across the city. \nGather your family and friends\, pack a picnic or take advantage of delicious food options available in the local area. \n\nEvent date:  Saturday\, 14 March 2026\nLocation:  John Laws Park\, Burleigh Heads\nEvent starts at 4.30pm with kids’ activities\, face painting\, live music\, and with food trucks onsite.\nThen stay for the movie starting at 6.30pm!\n\nMovie: Kung Fu Panda 4\nPo is gearing up to become the spiritual leader of his Valley of Peace\, but also needs someone to take his place as Dragon Warrior. As such\, he will train a new kung fu practitioner for the spot and will encounter a villain called the Chameleon who conjures villains from the past. \nRating: PG\nLength: 94mins \n*** TICKETS NOT REQUIRED – JUST SHOW UP! *** \nFor more information including updates\, please see the Facebook Event page. Link is under Website (near map) below.
URL:https://spectrumentertainment.com.au/event/movies-under-the-stars-kung-fu-panda-4-3/
LOCATION:John Laws Park\, Goodwin Terrace\, Burleigh Heads\, Qld\, 4220\, Australia
CATEGORIES:Outdoor Cinema
ATTACH;FMTTYPE=image/png:https://spectrumentertainment.com.au/wp-content/uploads/2024/09/EVENTBRITE-Kung-Fu-Panda-4.png
END:VEVENT
END:VCALENDAR