BEGIN:VCALENDAR
VERSION:2.0
PRODID:-//Spectrum Outdoor Entertainment - ECPv6.15.20//NONSGML v1.0//EN
CALSCALE:GREGORIAN
METHOD:PUBLISH
X-WR-CALNAME:Spectrum Outdoor Entertainment
X-ORIGINAL-URL:https://spectrumentertainment.com.au
X-WR-CALDESC:Events for Spectrum Outdoor Entertainment
REFRESH-INTERVAL;VALUE=DURATION:PT1H
X-Robots-Tag:noindex
X-PUBLISHED-TTL:PT1H
BEGIN:VTIMEZONE
TZID:Australia/Melbourne
BEGIN:STANDARD
TZOFFSETFROM:+1100
TZOFFSETTO:+1000
TZNAME:AEST
DTSTART:20250405T160000
END:STANDARD
BEGIN:DAYLIGHT
TZOFFSETFROM:+1000
TZOFFSETTO:+1100
TZNAME:AEDT
DTSTART:20251004T160000
END:DAYLIGHT
BEGIN:STANDARD
TZOFFSETFROM:+1100
TZOFFSETTO:+1000
TZNAME:AEST
DTSTART:20260404T160000
END:STANDARD
BEGIN:DAYLIGHT
TZOFFSETFROM:+1000
TZOFFSETTO:+1100
TZNAME:AEDT
DTSTART:20261003T160000
END:DAYLIGHT
BEGIN:STANDARD
TZOFFSETFROM:+1100
TZOFFSETTO:+1000
TZNAME:AEST
DTSTART:20270403T160000
END:STANDARD
BEGIN:DAYLIGHT
TZOFFSETFROM:+1000
TZOFFSETTO:+1100
TZNAME:AEDT
DTSTART:20271002T160000
END:DAYLIGHT
END:VTIMEZONE
BEGIN:VEVENT
DTSTART;TZID=Australia/Melbourne:20260329T163000
DTEND;TZID=Australia/Melbourne:20260329T163000
DTSTAMP:20260423T080544
CREATED:20260223T030640Z
LAST-MODIFIED:20260223T030640Z
UID:1593-1774801800-1774801800@spectrumentertainment.com.au
SUMMARY:Outdoor Cinema in the Suburbs - Peter Rabbit 2
DESCRIPTION:Join us for a night under the stars as our free Outdoor Cinema in the Suburbs events return across Brisbane. ???? \nGrab a picnic blanket\, pack the snacks and round up your friends and family to watch your favourite flicks in a suburb near you! \nScreenings are free and open for all to attend. ??? \n?? Some parks will allow your furry friends to come along (check the event details on our website beforehand). \n?? Some screenings will have closed captions (check the event details on our website beforehand). \nFind out more about each Outdoor Cinema session: https://bnecouncil.cc/4iRNX3Y \nEvent date: Sunday\, 29 March 2026\nEvent starts at 4:30 pm with kids activities and food trucks. Movie will start 2 hours after event start time. \nMovie: Peter Rabbit 2\nThe loveable rogue is back in Peter Rabbit 2. Bea\, Thomas and the rabbits have made peace as a family but despite his best efforts\, Peter can’t seem to shake his mischievous reputation. Adventuring out of the garden\, Peter finds himself on the mean streets of the city where his mischief is appreciated. But when his furry family is put in danger\, Peter must figure out what kind of bunny he wants to be. \nRating: G\nLength: 90mins \nThanks to Cr Darren Taylor\, Division 10. \nFor more information including updates\, please see the Facebook Event page.
URL:https://spectrumentertainment.com.au/event/outdoor-cinema-in-the-suburbs-peter-rabbit-2/
LOCATION:Qld
CATEGORIES:Outdoor Cinema
ATTACH;FMTTYPE=image/jpeg:https://spectrumentertainment.com.au/wp-content/uploads/2026/02/Peter-Rabbit-2.jpg
END:VEVENT
BEGIN:VEVENT
DTSTART;TZID=Australia/Melbourne:20260329T183000
DTEND;TZID=Australia/Melbourne:20260329T203000
DTSTAMP:20260423T080544
CREATED:20260223T030401Z
LAST-MODIFIED:20260324T054305Z
UID:1591-1774809000-1774816200@spectrumentertainment.com.au
SUMMARY:✨Movies on the Esplanade - Wonka 🍫🥚
DESCRIPTION:What better way to spend an evening than outdoors watching a movie on the Esplanade at Surfers Paradise! \nThe Movies on the Esplanade program is free\, family-friendly fun on offer February & March 2026 on the Esplanade\, Surfers Paradise (at the Hanlan St end\, near Walhburgers). \n• Sun 8 Feb Cool Runnings @ 7:00 pm\n• Sun 15 Feb The Proposal @ 7:00 pm\n• Sun 22 Feb A Dog’s Journey @ 7:00 pm\n• Sun 1 Mar Kangaroo @ 6:30 pm\n• Sun 8 Mar  A Minecraft Movie @ 6:30 pm\n• Sun 15 Mar No movie due to the T100 event\n• Sun 22 Mar  No movie due to the T100 event\n• Sun 29 Mar  Wonka at 7:00pm \nGather your family and friends\, and take advantage of delicious food options available in the local area. \nEvent date: Sunday\, 29 March 2026\nDoors at 5pm\nMovie starts: 7:00pm \nMovie: Wonka\nWilly Wonka – chock-full of ideas and determined to change the world one delectable bite at a time – is proof that the best things in life begin with a dream\, and if you’re lucky enough to meet Willy Wonka\, anything is possible. \nRating: PG\nLength: 117mins \nThanks to Cr Darren Taylor\, Division 10. \nFor more information including updates\, please see the Facebook Event page at https://www.facebook.com/events/1847523019740282/
URL:https://spectrumentertainment.com.au/event/movies-on-the-esplanade-rise-of-the-guardians/
LOCATION:Surfers Paradise People’s Esplanade\, 2 Cavill Avenue\, Surfers Paradise\, Qld\, 4217\, Australia
CATEGORIES:Outdoor Cinema
ATTACH;FMTTYPE=image/png:https://spectrumentertainment.com.au/wp-content/uploads/2026/02/0328-Wonka.png
END:VEVENT
END:VCALENDAR