BEGIN:VCALENDAR
VERSION:2.0
PRODID:-//Spectrum Outdoor Entertainment - ECPv6.15.20//NONSGML v1.0//EN
CALSCALE:GREGORIAN
METHOD:PUBLISH
X-WR-CALNAME:Spectrum Outdoor Entertainment
X-ORIGINAL-URL:https://spectrumentertainment.com.au
X-WR-CALDESC:Events for Spectrum Outdoor Entertainment
REFRESH-INTERVAL;VALUE=DURATION:PT1H
X-Robots-Tag:noindex
X-PUBLISHED-TTL:PT1H
BEGIN:VTIMEZONE
TZID:Australia/Melbourne
BEGIN:STANDARD
TZOFFSETFROM:+1100
TZOFFSETTO:+1000
TZNAME:AEST
DTSTART:20250405T160000
END:STANDARD
BEGIN:DAYLIGHT
TZOFFSETFROM:+1000
TZOFFSETTO:+1100
TZNAME:AEDT
DTSTART:20251004T160000
END:DAYLIGHT
BEGIN:STANDARD
TZOFFSETFROM:+1100
TZOFFSETTO:+1000
TZNAME:AEST
DTSTART:20260404T160000
END:STANDARD
BEGIN:DAYLIGHT
TZOFFSETFROM:+1000
TZOFFSETTO:+1100
TZNAME:AEDT
DTSTART:20261003T160000
END:DAYLIGHT
BEGIN:STANDARD
TZOFFSETFROM:+1100
TZOFFSETTO:+1000
TZNAME:AEST
DTSTART:20270403T160000
END:STANDARD
BEGIN:DAYLIGHT
TZOFFSETFROM:+1000
TZOFFSETTO:+1100
TZNAME:AEDT
DTSTART:20271002T160000
END:DAYLIGHT
END:VTIMEZONE
BEGIN:VEVENT
DTSTART;TZID=Australia/Melbourne:20260411T163000
DTEND;TZID=Australia/Melbourne:20260411T203000
DTSTAMP:20260423T144820
CREATED:20260321T083316Z
LAST-MODIFIED:20260321T083444Z
UID:1639-1775925000-1775939400@spectrumentertainment.com.au
SUMMARY:Movies Under the Stars - How To Train Your Dragon (2025)
DESCRIPTION:What better way to spend an evening than outdoors watching a movie under the stars! \nThe City of Gold Coast Movies under the Stars program is free\, family-friendly fun on offer from September 2025 through to April 2026 right across the city. \nGather your family and friends\, pack a picnic or take advantage of delicious food options available in the local area. \n \n\nEvent date:  Saturday\, 11 April 2026\nLocation:  Pimpama River Parklands\, Ormeau\nEvent starts at 4.30pm with kids’ activities\, face painting and with food trucks onsite.\nThen stay for the movie starting at 6.30pm!\nMovie: How To Train Your Dragon (2025)\nOn the rugged isle of Berk\, a Viking boy named Hiccup defies centuries of tradition by befriending a dragon named Toothless. However\, when an ancient threat emerges that endangers both species\, Hiccup’s friendship with Toothless becomes the key to forging a new future. Together\, they must navigate the delicate path toward peace\, soaring beyond the boundaries of their worlds and redefining what it means to be a hero and a leader. \nRating: PG\nLength: 125mins \n*** TICKETS NOT REQUIRED – JUST SHOW UP! *** \nFor more information including updates\, please see the Facebook Event page. Link is under Website (near map) below.
URL:https://spectrumentertainment.com.au/event/movies-under-the-stars-how-to-train-your-dragon-2025-2/
LOCATION:Pimpama River Parklands\, Reedmans Road\, Ormeau\, Qld\, 4208\, Australia
CATEGORIES:Outdoor Cinema
ATTACH;FMTTYPE=image/png:https://spectrumentertainment.com.au/wp-content/uploads/2026/01/MUtS-EVENTBRITE-How-To-Train-Your-Dragon-2025.png
END:VEVENT
BEGIN:VEVENT
DTSTART;TZID=Australia/Melbourne:20260418T160000
DTEND;TZID=Australia/Melbourne:20260418T200000
DTSTAMP:20260423T144820
CREATED:20260321T083220Z
LAST-MODIFIED:20260321T083504Z
UID:1640-1776528000-1776542400@spectrumentertainment.com.au
SUMMARY:Movies Under the Stars - The Bad Guys 2
DESCRIPTION:What better way to spend an evening than outdoors watching a movie under the stars! \nThe City of Gold Coast Movies under the Stars program is free\, family-friendly fun on offer from September 2025 through to April 2026 right across the city. \nGather your family and friends\, pack a picnic or take advantage of delicious food options available in the local area. \n \n\nEvent date:  Saturday\, 18 April 2026\nLocation:  Paradise Point Parklands\, Paradise Point\nEvent starts at 4.00pm with kids’ activities.\nThen stay for the movie starting at 6.00pm!\nMovie: The Bad Guys 2\nThe now-reformed Bad Guys are trying (very\, very hard) to be good\, but instead find themselves hijacked into a high-stakes\, globe-trotting heist\, masterminded by a new team of criminals they never saw coming: The Bad Girls. \nRating: PG\nLength: 103mins \n*** TICKETS NOT REQUIRED – JUST SHOW UP! *** \nFor more information including updates\, please see the Facebook Event page. Link is under Website (near map) below.
URL:https://spectrumentertainment.com.au/event/movies-under-the-stars-the-bad-guys-2-2/
LOCATION:Paradise Point Parklands\, The Esplanade\, Paradise Point\, Qld\, 4216\, Australia
CATEGORIES:Outdoor Cinema
ATTACH;FMTTYPE=image/png:https://spectrumentertainment.com.au/wp-content/uploads/2026/01/MUtS-EVENTBRITE-The-Bad-Guys-2.png
END:VEVENT
BEGIN:VEVENT
DTSTART;TZID=Australia/Melbourne:20260419T180000
DTEND;TZID=Australia/Melbourne:20260419T200000
DTSTAMP:20260423T144820
CREATED:20260418T074941Z
LAST-MODIFIED:20260418T074941Z
UID:1659-1776621600-1776628800@spectrumentertainment.com.au
SUMMARY:Movies on the Esplanade - Paddington in Peru
DESCRIPTION:What better way to spend an evening than outdoors watching a movie on the Esplanade at Surfers Paradise! \nThe Movies on the Esplanade program is free\, family-friendly fun on the Esplanade\, Surfers Paradise (at the Hanlan St end\, near Walhburgers). \nGather your family and friends\, and take advantage of delicious food options available in the local area. \nEvent date: Sunday\, 19 April 2026\nDoors at 5pm\nMovie starts: 6:00 pm \nMovie: Paddington in Peru\nWhen Paddington discovers his beloved aunt has gone missing from the Home for Retired Bears\, he and the Brown family head to the jungles of Peru to find her. Determined to solve the mystery\, they soon stumble across a legendary treasure as they make their way through the rainforests of the Amazon. \nRating: PG\nLength: 106mins \nThanks to Cr Darren Taylor\, Division 10. \nFor more information including updates\, please see the Facebook Event page.
URL:https://spectrumentertainment.com.au/event/movies-on-the-esplanade-paddington-in-peru/
LOCATION:Surfers Paradise People’s Esplanade\, 2 Cavill Avenue\, Surfers Paradise\, Qld\, 4217\, Australia
CATEGORIES:Outdoor Cinema
ATTACH;FMTTYPE=image/png:https://spectrumentertainment.com.au/wp-content/uploads/2026/04/0419.png
END:VEVENT
BEGIN:VEVENT
DTSTART;TZID=Australia/Melbourne:20260426T180000
DTEND;TZID=Australia/Melbourne:20260426T200000
DTSTAMP:20260423T144820
CREATED:20260418T074944Z
LAST-MODIFIED:20260418T074944Z
UID:1660-1777226400-1777233600@spectrumentertainment.com.au
SUMMARY:Movies on the Esplanade - Red Dog True Blue
DESCRIPTION:What better way to spend an evening than outdoors watching a movie on the Esplanade at Surfers Paradise! \nThe Movies on the Esplanade program is free\, family-friendly fun on the Esplanade\, Surfers Paradise (at the Hanlan St end\, near Walhburgers). \nGather your family and friends\, and take advantage of delicious food options available in the local area. \nEvent date: Sunday\, 26 April 2026\nDoors at 5pm\nMovie starts: 6:00 pm \nMovie: Red Dog True Blue\nMick\, an eleven-year-old\, befriends a dog when he goes to live with his grandfather in a remote region. Accompanied by the dog\, he goes on many adventures that proves life-changing for both of them. \nRating: PG\nLength: 88mins \nThanks to Cr Darren Taylor\, Division 10. \nFor more information including updates\, please see the Facebook Event page.
URL:https://spectrumentertainment.com.au/event/movies-on-the-esplanade-red-dog-true-blue/
LOCATION:Surfers Paradise People’s Esplanade\, 2 Cavill Avenue\, Surfers Paradise\, Qld\, 4217\, Australia
CATEGORIES:Outdoor Cinema
ATTACH;FMTTYPE=image/png:https://spectrumentertainment.com.au/wp-content/uploads/2026/04/0426.png
END:VEVENT
BEGIN:VEVENT
DTSTART;TZID=Australia/Melbourne:20260516T180000
DTEND;TZID=Australia/Melbourne:20260516T200000
DTSTAMP:20260423T144820
CREATED:20260402T042656Z
LAST-MODIFIED:20260402T042718Z
UID:1653-1778954400-1778961600@spectrumentertainment.com.au
SUMMARY:🤖 Movies Under the Stars - The Wild Robot 🤖
DESCRIPTION:What better way to spend an evening than outdoors watching a movie under the stars! \nThe City of Gold Coast Movies under the Stars program is free\, family-friendly fun on offer from September 2025 through to April 2026 right across the city. \nGather your family and friends\, pack a picnic or take advantage of delicious food options available in the local area. \n \n\nEvent date:  Saturday\, 16 May 2026\nLocation:  Robina City Parklands Greenheart \, Robina\nDoors at 6pm\nMovie starts: 6.00pm\nMovie: The Wild Robot\nAfter a shipwreck\, an intelligent robot called Roz is stranded on an uninhabited island. To survive the harsh environment\, Roz bonds with the island’s animals and cares for an orphaned baby goose. \nRating: PG\nLength: 102mins \n*** TICKETS NOT REQUIRED – JUST SHOW UP! *** \nFor more information including updates\, please see the Facebook Event page. Link is under Website (near map) below.
URL:https://spectrumentertainment.com.au/event/movies-under-the-stars-the-wild-robot-4/
LOCATION:Greenheart Robina Parklands\, Stadium Drive\, Robina\, Qld\, 4226\, Australia
CATEGORIES:Outdoor Cinema
ATTACH;FMTTYPE=image/png:https://spectrumentertainment.com.au/wp-content/uploads/2025/09/EVENTBRITE-TheWildRobot.png
END:VEVENT
END:VCALENDAR