BEGIN:VCALENDAR
VERSION:2.0
PRODID:-//Spectrum Outdoor Entertainment - ECPv6.15.20//NONSGML v1.0//EN
CALSCALE:GREGORIAN
METHOD:PUBLISH
X-ORIGINAL-URL:https://spectrumentertainment.com.au
X-WR-CALDESC:Events for Spectrum Outdoor Entertainment
REFRESH-INTERVAL;VALUE=DURATION:PT1H
X-Robots-Tag:noindex
X-PUBLISHED-TTL:PT1H
BEGIN:VTIMEZONE
TZID:Australia/Melbourne
BEGIN:STANDARD
TZOFFSETFROM:+1100
TZOFFSETTO:+1000
TZNAME:AEST
DTSTART:20240406T160000
END:STANDARD
BEGIN:DAYLIGHT
TZOFFSETFROM:+1000
TZOFFSETTO:+1100
TZNAME:AEDT
DTSTART:20241005T160000
END:DAYLIGHT
BEGIN:STANDARD
TZOFFSETFROM:+1100
TZOFFSETTO:+1000
TZNAME:AEST
DTSTART:20250405T160000
END:STANDARD
BEGIN:DAYLIGHT
TZOFFSETFROM:+1000
TZOFFSETTO:+1100
TZNAME:AEDT
DTSTART:20251004T160000
END:DAYLIGHT
BEGIN:STANDARD
TZOFFSETFROM:+1100
TZOFFSETTO:+1000
TZNAME:AEST
DTSTART:20260404T160000
END:STANDARD
BEGIN:DAYLIGHT
TZOFFSETFROM:+1000
TZOFFSETTO:+1100
TZNAME:AEDT
DTSTART:20261003T160000
END:DAYLIGHT
END:VTIMEZONE
BEGIN:VEVENT
DTSTART;TZID=Australia/Melbourne:20250816T180000
DTEND;TZID=Australia/Melbourne:20250816T200000
DTSTAMP:20260425T121649
CREATED:20250324T091258Z
LAST-MODIFIED:20250811T083725Z
UID:1307-1755367200-1755374400@spectrumentertainment.com.au
SUMMARY:Movies Under the Stars - IF
DESCRIPTION:What better way to spend an evening than outdoors watching a movie under the stars! \nThe City of Gold Coast Movies Under the Stars program is free\, family-friendly fun on offer right across the city. \nGather your family and friends\, pack a picnic or take advantage of delicious food options available in the local area. \n*** TICKETS NOT REQUIRED ***\nTickets are not required\, however you can ‘reserve a spot’ on Eventbrite to sign up for event updates/reminders. \nDoors open : 5.30pm\nMovie starts : 6pm\nEvent date : Saturday 16th August (rescheduled from 24 May)\nLocation : Greenheart Robina Parklands \nMovie : IF\nAfter discovering she can see everyone’s imaginary friends\, a girl embarks on a magical adventure to reconnect forgotten imaginary friends with their kids.\nRating: PG\nDuration: 104 minutes\nCategory: Comedy\, Fantasy\, Family\nFor further information or for event updates\, see the Facebook event page at https://www.facebook.com/events/1315079016443126
URL:https://spectrumentertainment.com.au/event/movies-under-the-stars-if/
LOCATION:Greenheart Robina Parklands\, Stadium Drive\, Robina\, Qld\, 4226\, Australia
CATEGORIES:Outdoor Cinema
ATTACH;FMTTYPE=image/png:https://spectrumentertainment.com.au/wp-content/uploads/2024/11/EVENTBRITE-IF.png
END:VEVENT
END:VCALENDAR