BEGIN:VCALENDAR
VERSION:2.0
PRODID:-//Spectrum Outdoor Entertainment - ECPv6.15.20//NONSGML v1.0//EN
CALSCALE:GREGORIAN
METHOD:PUBLISH
X-WR-CALNAME:Spectrum Outdoor Entertainment
X-ORIGINAL-URL:https://spectrumentertainment.com.au
X-WR-CALDESC:Events for Spectrum Outdoor Entertainment
REFRESH-INTERVAL;VALUE=DURATION:PT1H
X-Robots-Tag:noindex
X-PUBLISHED-TTL:PT1H
BEGIN:VTIMEZONE
TZID:Australia/Melbourne
BEGIN:STANDARD
TZOFFSETFROM:+1100
TZOFFSETTO:+1000
TZNAME:AEST
DTSTART:20240406T160000
END:STANDARD
BEGIN:DAYLIGHT
TZOFFSETFROM:+1000
TZOFFSETTO:+1100
TZNAME:AEDT
DTSTART:20241005T160000
END:DAYLIGHT
BEGIN:STANDARD
TZOFFSETFROM:+1100
TZOFFSETTO:+1000
TZNAME:AEST
DTSTART:20250405T160000
END:STANDARD
BEGIN:DAYLIGHT
TZOFFSETFROM:+1000
TZOFFSETTO:+1100
TZNAME:AEDT
DTSTART:20251004T160000
END:DAYLIGHT
BEGIN:STANDARD
TZOFFSETFROM:+1100
TZOFFSETTO:+1000
TZNAME:AEST
DTSTART:20260404T160000
END:STANDARD
BEGIN:DAYLIGHT
TZOFFSETFROM:+1000
TZOFFSETTO:+1100
TZNAME:AEDT
DTSTART:20261003T160000
END:DAYLIGHT
END:VTIMEZONE
BEGIN:VEVENT
DTSTART;TZID=Australia/Melbourne:20251012T183000
DTEND;TZID=Australia/Melbourne:20251012T203000
DTSTAMP:20260425T095227
CREATED:20250925T053535Z
LAST-MODIFIED:20250925T054450Z
UID:1401-1760293800-1760301000@spectrumentertainment.com.au
SUMMARY:Movies on the Esplanade - Sonic the Hedgehog 3
DESCRIPTION:What better way to spend an evening than outdoors watching a movie on the Esplanade at Surfers Paradise!\nThe Movies on the Esplanade program is free\, family-friendly fun on offer from September 2025 through to mid November 2025 on the Esplanade (near McDonalds on Cavill Avenue)\, Surfers Paradise. \nGather your family and friends\, and take advantage of delicious food options available in the local area. \nDoors: 6pm\nMovie starts: Sonic the Hedgehog 3 \nMovie: Sonic the Hedgehog 3\nSonic\, Knuckles\, and Tails reunite against a powerful new adversary\, Shadow\, a mysterious villain with powers unlike anything they have faced before. With their abilities outmatched in every way\, Team Sonic must seek out an unlikely alliance in hopes of stopping Shadow and protecting the planet. \nRating: PG\nLength: 110mins \nThanks to Cr Darren Taylor\, Division 10. \nFor more information including updates\, please see the Facebook Event page. Link is under Website (near map) below.
URL:https://spectrumentertainment.com.au/event/movies-on-the-esplande-sonic-the-hedgehog-3/
LOCATION:Surfers Paradise People’s Esplanade\, 2 Cavill Avenue\, Surfers Paradise\, Qld\, 4217\, Australia
CATEGORIES:Outdoor Cinema
END:VEVENT
BEGIN:VEVENT
DTSTART;TZID=Australia/Melbourne:20251019T183000
DTEND;TZID=Australia/Melbourne:20251019T203000
DTSTAMP:20260425T095227
CREATED:20250925T053448Z
LAST-MODIFIED:20251010T081414Z
UID:1402-1760898600-1760905800@spectrumentertainment.com.au
SUMMARY:Movies on the Esplanade - How To Train Your Dragon (2025)
DESCRIPTION:What better way to spend an evening than outdoors watching a movie on the Esplanade at Surfers Paradise! \nThe Movies on the Esplanade program is free\, family-friendly fun on offer from September 2025 through to mid November 2025 on the Esplanade (near McDonalds on Cavill Avenue)\, Surfers Paradise. \nGather your family and friends\, and take advantage of delicious food options available in the local area. \nDoors from 5pm\nMovie starts: 6.30pm \nMovie: How To Train Your Dragon (2025)\nOn the rugged isle of Berk\, a Viking boy named Hiccup defies centuries of tradition by befriending a dragon named Toothless. However\, when an ancient threat emerges that endangers both species\, Hiccup’s friendship with Toothless becomes the key to forging a new future. Together\, they must navigate the delicate path toward peace\, soaring beyond the boundaries of their worlds and redefining what it means to be a hero and a leader. \nRating: PG\nLength: 125mins \nThanks to Cr Darren Taylor\, Division 10. \nFor more information including updates\, please see the Facebook Event page. Link is under Website (near map) below.
URL:https://spectrumentertainment.com.au/event/movies-on-the-esplande-we-bought-a-zoo/
LOCATION:Surfers Paradise People’s Esplanade\, 2 Cavill Avenue\, Surfers Paradise\, Qld\, 4217\, Australia
CATEGORIES:Outdoor Cinema
END:VEVENT
BEGIN:VEVENT
DTSTART;TZID=Australia/Melbourne:20251031T163000
DTEND;TZID=Australia/Melbourne:20251031T203000
DTSTAMP:20260425T095227
CREATED:20251024T045211Z
LAST-MODIFIED:20251024T045211Z
UID:1439-1761928200-1761942600@spectrumentertainment.com.au
SUMMARY:Movies Under the Stars - Ghostbusters: Frozen Empire
DESCRIPTION:What better way to spend an evening than outdoors watching a movie under the stars! \nThe City of Gold Coast Movies under the Stars program is free\, family-friendly fun on offer from September 2025 through to April 2026 right across the city. \nGather your family and friends\, pack a picnic or take advantage of delicious food options available in the local area. \nDoors: 6pm\nMovie starts: 6.30pm \nMovie: Ghostbusters: Frozen Empire\nIn Ghostbusters: Frozen Empire\, the Spengler family returns to where it all started – the iconic New York City firehouse – to team up with the original Ghostbusters. \nRating: PG\nLength: 115mins \n*** TICKETS NOT REQUIRED – JUST SHOW UP! *** \nFor more information including updates\, please see the Facebook Event page. Link is under Website (near map) below.
URL:https://spectrumentertainment.com.au/event/movies-under-the-stars-ghostbusters-frozen-empire-3/
LOCATION:Runaway Bay Cricket Club\, Sports Drive\, Runaway Bay\, Qld\, 4216\, Australia
CATEGORIES:Outdoor Cinema
ATTACH;FMTTYPE=image/png:https://spectrumentertainment.com.au/wp-content/uploads/2024/09/MUtS-EVENTBRITE-Ghostbusters-Frozen-Empire.png
END:VEVENT
END:VCALENDAR