BEGIN:VCALENDAR
VERSION:2.0
PRODID:-//Spectrum Outdoor Entertainment - ECPv6.15.20//NONSGML v1.0//EN
CALSCALE:GREGORIAN
METHOD:PUBLISH
X-WR-CALNAME:Spectrum Outdoor Entertainment
X-ORIGINAL-URL:https://spectrumentertainment.com.au
X-WR-CALDESC:Events for Spectrum Outdoor Entertainment
REFRESH-INTERVAL;VALUE=DURATION:PT1H
X-Robots-Tag:noindex
X-PUBLISHED-TTL:PT1H
BEGIN:VTIMEZONE
TZID:Australia/Melbourne
BEGIN:STANDARD
TZOFFSETFROM:+1100
TZOFFSETTO:+1000
TZNAME:AEST
DTSTART:20240406T160000
END:STANDARD
BEGIN:DAYLIGHT
TZOFFSETFROM:+1000
TZOFFSETTO:+1100
TZNAME:AEDT
DTSTART:20241005T160000
END:DAYLIGHT
BEGIN:STANDARD
TZOFFSETFROM:+1100
TZOFFSETTO:+1000
TZNAME:AEST
DTSTART:20250405T160000
END:STANDARD
BEGIN:DAYLIGHT
TZOFFSETFROM:+1000
TZOFFSETTO:+1100
TZNAME:AEDT
DTSTART:20251004T160000
END:DAYLIGHT
BEGIN:STANDARD
TZOFFSETFROM:+1100
TZOFFSETTO:+1000
TZNAME:AEST
DTSTART:20260404T160000
END:STANDARD
BEGIN:DAYLIGHT
TZOFFSETFROM:+1000
TZOFFSETTO:+1100
TZNAME:AEDT
DTSTART:20261003T160000
END:DAYLIGHT
END:VTIMEZONE
BEGIN:VEVENT
DTSTART;TZID=Australia/Melbourne:20251101T170000
DTEND;TZID=Australia/Melbourne:20251101T203000
DTSTAMP:20260425T083453
CREATED:20251024T045049Z
LAST-MODIFIED:20251030T034532Z
UID:1440-1762016400-1762029000@spectrumentertainment.com.au
SUMMARY:**POSTPONED** Movies Under the Stars - Paddington in Peru
DESCRIPTION:What better way to spend an evening than outdoors watching a movie under the stars! \nThe City of Gold Coast Movies under the Stars program is free\, family-friendly fun on offer from September 2025 through to April 2026 right across the city. \nGather your family and friends\, pack a picnic or take advantage of delicious food options available in the local area. \nEvent starts at 5pm with kids activities\nMovie starts: 7.00pm \nMovie: Paddington in Peru\nWhen Paddington discovers his beloved aunt has gone missing from the Home for Retired Bears\, he and the Brown family head to the jungles of Peru to find her. Determined to solve the mystery\, they soon stumble across a legendary treasure as they make their way through the rainforests of the Amazon. \nRating: PG\nLength: 106mins \n*** TICKETS NOT REQUIRED – JUST SHOW UP! *** \nFor more information including updates\, please see the Facebook Event page. Link is under Website (near map) below.
URL:https://spectrumentertainment.com.au/event/movies-under-the-stars-paddington-in-peru-3/
LOCATION:Riesenweber Park\, 27 Bay Drive\, Jacobs Well\, Qld\, 4208\, Australia
CATEGORIES:Outdoor Cinema
ATTACH;FMTTYPE=image/png:https://spectrumentertainment.com.au/wp-content/uploads/2025/09/MUtS-EVENTBRITE-2-PaddingtonInPeru.png
END:VEVENT
BEGIN:VEVENT
DTSTART;TZID=Australia/Melbourne:20251102T183000
DTEND;TZID=Australia/Melbourne:20251102T203000
DTSTAMP:20260425T083453
CREATED:20250925T053631Z
LAST-MODIFIED:20251010T081411Z
UID:1403-1762108200-1762115400@spectrumentertainment.com.au
SUMMARY:Movies on the Esplanade - Addams Family Values
DESCRIPTION:What better way to spend an evening than outdoors watching a movie on the Esplanade at Surfers Paradise! \nThe Movies on the Esplanade program is free\, family-friendly fun on offer from September 2025 through to mid November 2025 on the Esplanade (near McDonalds on Cavill Avenue)\, Surfers Paradise. \nGather your family and friends\, and take advantage of delicious food options available in the local area. \nDoors from 5pm\nMovie starts: 6.30pm \nMovie: Addams Family Values\nSiblings Wednesday and Pugsley Addams will stop at nothing to get rid of Pubert\, the new baby boy adored by parents Gomez and Morticia. Things go from bad to worse when the new “black widow” nanny\, Debbie Jellinsky\, launches her plan to add Fester to her collection of dead husbands. \nRating: PG\nLength: 94mins \nThanks to Cr Darren Taylor\, Division 10. \nFor more information including updates\, please see the Facebook Event page. Link is under Website (near map) below.
URL:https://spectrumentertainment.com.au/event/movies-on-the-esplande-addams-family-values/
LOCATION:Surfers Paradise People’s Esplanade\, 2 Cavill Avenue\, Surfers Paradise\, Qld\, 4217\, Australia
CATEGORIES:Outdoor Cinema
END:VEVENT
BEGIN:VEVENT
DTSTART;TZID=Australia/Melbourne:20251108T163000
DTEND;TZID=Australia/Melbourne:20251108T203000
DTSTAMP:20260425T083453
CREATED:20251024T044921Z
LAST-MODIFIED:20251024T045736Z
UID:1441-1762619400-1762633800@spectrumentertainment.com.au
SUMMARY:Movies Under the Stars - A Minecraft Movie
DESCRIPTION:What better way to spend an evening than outdoors watching a movie under the stars! \nThe City of Gold Coast Movies under the Stars program is free\, family-friendly fun on offer from September 2025 through to April 2026 right across the city. \nGather your family and friends\, pack a picnic or take advantage of delicious food options available in the local area. \nEvent starts at 4.30pm with kids activities\nMovie starts: 6.30pm \nMovie: A Minecraft Movie\nFour misfits find themselves struggling with ordinary problems when they are suddenly pulled through a mysterious portal into the Overworld: a bizarre\, cubic wonderland that thrives on imagination. To get back home\, they’ll have to master this world while embarking on a magical quest with an unexpected\, expert crafter\, Steve. \nRating: PG\nLength: 101mins \n*** TICKETS NOT REQUIRED – JUST SHOW UP! *** \nFor more information including updates\, please see the Facebook Event page. Link is under Website (near map) below.
URL:https://spectrumentertainment.com.au/event/movies-under-the-stars-a-minecraft-movie-2/
LOCATION:Burleigh Beach (in front of SLSC)\, Goodwin Terrace\, Burleigh Heads\, Qld\, 4220\, Australia
CATEGORIES:Outdoor Cinema
ATTACH;FMTTYPE=image/png:https://spectrumentertainment.com.au/wp-content/uploads/2025/09/EVENTBRITE-MinecraftMovie.png
END:VEVENT
BEGIN:VEVENT
DTSTART;TZID=Australia/Melbourne:20251109T183000
DTEND;TZID=Australia/Melbourne:20251109T203000
DTSTAMP:20260425T083453
CREATED:20250925T053623Z
LAST-MODIFIED:20251029T105157Z
UID:1404-1762713000-1762720200@spectrumentertainment.com.au
SUMMARY:Movies on the Esplanade - Despicable Me 4
DESCRIPTION:What better way to spend an evening than outdoors watching a movie on the Esplanade at Surfers Paradise! \nThe Movies on the Esplanade program is free\, family-friendly fun on offer from September 2025 through to mid November 2025 on the Esplanade (near McDonalds on Cavill Avenue)\, Surfers Paradise. \nGather your family and friends\, and take advantage of delicious food options available in the local area. \nDoors from 5pm\nMovie starts: 6.30pm \nMovie: Despicable Me 4\nGru welcomes a new member to the family\, Gru Jr.\, who’s intent on tormenting his dad. However\, their peaceful existence soon comes crashing down when criminal mastermind Maxime Le Mal escapes from prison and vows revenge against Gru. \nRating: PG\nLength: 125mins \nThanks to Cr Darren Taylor\, Division 10. \nFor more information including updates\, please see the Facebook Event page. Link is under Website (near map) below.
URL:https://spectrumentertainment.com.au/event/movies-on-the-esplande-the-incredibles-2/
LOCATION:Surfers Paradise People’s Esplanade\, 2 Cavill Avenue\, Surfers Paradise\, Qld\, 4217\, Australia
CATEGORIES:Outdoor Cinema
END:VEVENT
BEGIN:VEVENT
DTSTART;TZID=Australia/Melbourne:20251110T183000
DTEND;TZID=Australia/Melbourne:20251110T203000
DTSTAMP:20260425T083453
CREATED:20250904T083928Z
LAST-MODIFIED:20250904T083928Z
UID:1352-1762799400-1762806600@spectrumentertainment.com.au
SUMMARY:Movies Under the Stars - Paddington in Peru
DESCRIPTION:What better way to spend an evening than outdoors watching a movie under the stars!\nThe City of Gold Coast Movies under the Stars program is free\, family-friendly fun on offer from September 2025 through to April 2026 right across the city. \nGather your family and friends\, pack a picnic or take advantage of delicious food options available in the local area. \nDoors: 6pm\nMovie starts: 6.30pm \nMovie: Paddington in Peru\nWhen Paddington discovers his beloved aunt has gone missing from the Home for Retired Bears\, he and the Brown family head to the jungles of Peru to find her. Determined to solve the mystery\, they soon stumble across a legendary treasure as they make their way through the rainforests of the Amazon. \nRating: PG\nLength: 106mins \n*** TICKETS NOT REQUIRED – JUST SHOW UP! *** \nFor more information including updates\, please see the Facebook Event page. Link is under Website (near map) below.
URL:https://spectrumentertainment.com.au/event/movies-under-the-stars-paddington-in-peru/
LOCATION:Chevron Island Park\, 75 Thomas Drive\, Surfers Paradise\, Qld\, 4217\, Australia
CATEGORIES:Outdoor Cinema
ATTACH;FMTTYPE=image/png:https://spectrumentertainment.com.au/wp-content/uploads/2025/09/MUtS-EVENTBRITE-2-PaddingtonInPeru.png
END:VEVENT
BEGIN:VEVENT
DTSTART;TZID=Australia/Melbourne:20251116T183000
DTEND;TZID=Australia/Melbourne:20251116T203000
DTSTAMP:20260425T083453
CREATED:20251010T081209Z
LAST-MODIFIED:20251029T104640Z
UID:1423-1763317800-1763325000@spectrumentertainment.com.au
SUMMARY:Movies on the Esplanade - Home Alone 2
DESCRIPTION:What better way to spend an evening than outdoors watching a movie on the Esplanade at Surfers Paradise! \nThe Movies on the Esplanade program is free\, family-friendly fun on offer from September 2025 through to mid November 2025 on the Esplanade (near McDonalds on Cavill Avenue)\, Surfers Paradise. \nGather your family and friends\, and take advantage of delicious food options available in the local area. \nDoors from 5pm\nMovie starts: 6.30pm \nMovie: Home Alone 2\nKevin thought all his worries were over for good and his parents won’t leave home without him. But this time he is all alone in the big city of New York and the Wet Bandits are back in his life. \nRating: PG\nLength: 97mins \nThanks to Cr Darren Taylor\, Division 10. \nFor more information including updates\, please see the Facebook Event page. Link is under Website (near map) below.
URL:https://spectrumentertainment.com.au/event/movies-on-the-esplanade-elf/
LOCATION:Surfers Paradise People’s Esplanade\, 2 Cavill Avenue\, Surfers Paradise\, Qld\, 4217\, Australia
END:VEVENT
BEGIN:VEVENT
DTSTART;TZID=Australia/Melbourne:20251122T170000
DTEND;TZID=Australia/Melbourne:20251122T203000
DTSTAMP:20260425T083453
CREATED:20251024T044433Z
LAST-MODIFIED:20251118T074244Z
UID:1444-1763830800-1763843400@spectrumentertainment.com.au
SUMMARY:Movies Under the Stars - Paddington in Peru
DESCRIPTION:What better way to spend an evening than outdoors watching a movie under the stars! \nThe City of Gold Coast Movies under the Stars program is free\, family-friendly fun on offer from September 2025 through to April 2026 right across the city. \nGather your family and friends\, pack a picnic or take advantage of delicious food options available in the local area. \nDoors: 5pm\nMovie starts: 7.00pm\nLocation: Palm Beach Parklands \nMovie: Paddington in Peru\nWhen Paddington discovers his beloved aunt has gone missing from the Home for Retired Bears\, he and the Brown family head to the jungles of Peru to find her. Determined to solve the mystery\, they soon stumble across a legendary treasure as they make their way through the rainforests of the Amazon. \nRating: PG\nLength: 106mins \n*** TICKETS NOT REQUIRED – JUST SHOW UP! *** \nFor more information including updates\, please see the Facebook Event page. Link is under Website (near map) below.
URL:https://spectrumentertainment.com.au/event/movies-under-the-stars-paddington-in-peru-2/
LOCATION:Palm Beach Parklands\, 945 Gold Coast Highway\, Palm Beach\, Qld\, 4221\, Australia
CATEGORIES:Outdoor Cinema
ATTACH;FMTTYPE=image/png:https://spectrumentertainment.com.au/wp-content/uploads/2025/09/MUtS-EVENTBRITE-2-PaddingtonInPeru.png
END:VEVENT
BEGIN:VEVENT
DTSTART;TZID=Australia/Melbourne:20251123T170000
DTEND;TZID=Australia/Melbourne:20251123T210000
DTSTAMP:20260425T083453
CREATED:20251118T074012Z
LAST-MODIFIED:20251123T084900Z
UID:1465-1763917200-1763931600@spectrumentertainment.com.au
SUMMARY:***CANCELLED DUE TO STORM*** Movies Under the Stars - Paddington in Peru
DESCRIPTION:What better way to spend an evening than outdoors watching a movie under the stars! \nThe City of Gold Coast Movies under the Stars program is free\, family-friendly fun on offer from September 2025 through to April 2026 right across the city. \nGather your family and friends\, pack a picnic or take advantage of delicious food options available in the local area. \n \n\nEvent date:  Sunday\, 23 November 2025\nLocation:  Riesenweber Park\, Jacobs Well\nEvent starts at 5.00pm with kids’ activities\, face painting\, live music\, and with food trucks onsite.\nThen stay for the movie starting at 7.00pm!\nMovie: Paddington in Peru\nWhen Paddington discovers his beloved aunt has gone missing from the Home for Retired Bears\, he and the Brown family head to the jungles of Peru to find her. Determined to solve the mystery\, they soon stumble across a legendary treasure as they make their way through the rainforests of the Amazon. \nRating: PG\nLength: 106mins \n*** TICKETS NOT REQUIRED – JUST SHOW UP! *** \nFor more information including updates\, please see the Facebook Event page. Link is under Website (near map) below.
URL:https://spectrumentertainment.com.au/event/movies-under-the-stars-paddington-in-peru-4/
LOCATION:Riesenweber Park\, 27 Bay Drive\, Jacobs Well\, Qld\, 4208\, Australia
CATEGORIES:Outdoor Cinema
ATTACH;FMTTYPE=image/png:https://spectrumentertainment.com.au/wp-content/uploads/2025/09/MUtS-EVENTBRITE-2-PaddingtonInPeru.png
END:VEVENT
END:VCALENDAR