BEGIN:VCALENDAR
VERSION:2.0
PRODID:-//Spectrum Outdoor Entertainment - ECPv6.15.20//NONSGML v1.0//EN
CALSCALE:GREGORIAN
METHOD:PUBLISH
X-ORIGINAL-URL:https://spectrumentertainment.com.au
X-WR-CALDESC:Events for Spectrum Outdoor Entertainment
REFRESH-INTERVAL;VALUE=DURATION:PT1H
X-Robots-Tag:noindex
X-PUBLISHED-TTL:PT1H
BEGIN:VTIMEZONE
TZID:Australia/Melbourne
BEGIN:STANDARD
TZOFFSETFROM:+1100
TZOFFSETTO:+1000
TZNAME:AEST
DTSTART:20250405T160000
END:STANDARD
BEGIN:DAYLIGHT
TZOFFSETFROM:+1000
TZOFFSETTO:+1100
TZNAME:AEDT
DTSTART:20251004T160000
END:DAYLIGHT
BEGIN:STANDARD
TZOFFSETFROM:+1100
TZOFFSETTO:+1000
TZNAME:AEST
DTSTART:20260404T160000
END:STANDARD
BEGIN:DAYLIGHT
TZOFFSETFROM:+1000
TZOFFSETTO:+1100
TZNAME:AEDT
DTSTART:20261003T160000
END:DAYLIGHT
BEGIN:STANDARD
TZOFFSETFROM:+1100
TZOFFSETTO:+1000
TZNAME:AEST
DTSTART:20270403T160000
END:STANDARD
BEGIN:DAYLIGHT
TZOFFSETFROM:+1000
TZOFFSETTO:+1100
TZNAME:AEDT
DTSTART:20271002T160000
END:DAYLIGHT
END:VTIMEZONE
BEGIN:VEVENT
DTSTART;TZID=Australia/Melbourne:20260301T183000
DTEND;TZID=Australia/Melbourne:20260301T203000
DTSTAMP:20260423T075446
CREATED:20260209T010822Z
LAST-MODIFIED:20260209T011508Z
UID:1561-1772389800-1772397000@spectrumentertainment.com.au
SUMMARY:Movies on the Esplanade - Kangaroo 🦘🎬
DESCRIPTION:What better way to spend an evening than outdoors watching a movie on the Esplanade at Surfers Paradise! \nThe Movies on the Esplanade program is free\, family-friendly fun on offer February & March 2026 on the Esplanade (outside the Paradise Centre entrance / Wahlburgers / near the Hanlan St roundabout)\, Surfers Paradise. \n• Sun 8 Feb Cool Runnings @ 7:00 pm\n• Sun 15 Feb The Proposal @ 7:00 pm\n• Sun 22 Feb A Dog’s Journey @ 7:00 pm\n• Sun 1 Mar Kangaroo @ 6:30 pm\n• Sun 8 Mar  A Minecraft Movie @ 6:30 pm\n• Sun 15 Mar No movie due to the T100 event\n• Sun 22 Mar  No movie due to the T100 event\n• Sun 29 Mar  Rise of the Guardians @ 6:30 pm (this event not delivered by Spectrum) \nGather your family and friends\, and take advantage of delicious food options available in the local area. \nEvent date: Sunday\, 1 March 2026\nDoors at 5pm\nMovie starts: 6:30 pm \nMovie: Kangaroo\nEx-TV personality\, Chris Masterman\, becomes stranded in a town outside Alice Springs. There\, he teams up with 12-year-old Charlie. \nRating: PG\nLength: 107mins \nThanks to Cr Darren Taylor\, Division 10. \nFor more information including updates\, please see the Facebook Event page.
URL:https://spectrumentertainment.com.au/event/movies-on-the-esplanade-kangaroo/
LOCATION:Surfers Paradise People’s Esplanade\, 2 Cavill Avenue\, Surfers Paradise\, Qld\, 4217\, Australia
CATEGORIES:Outdoor Cinema
ATTACH;FMTTYPE=image/png:https://spectrumentertainment.com.au/wp-content/uploads/2026/02/0301-Kangaroo.png
END:VEVENT
BEGIN:VEVENT
DTSTART;TZID=Australia/Melbourne:20260308T183000
DTEND;TZID=Australia/Melbourne:20260308T203000
DTSTAMP:20260423T075446
CREATED:20260209T010736Z
LAST-MODIFIED:20260308T081055Z
UID:1562-1772994600-1773001800@spectrumentertainment.com.au
SUMMARY:***POSTPONED*** Movies on the Esplanade - A Minecraft Movie
DESCRIPTION:What better way to spend an evening than outdoors watching a movie on the Esplanade at Surfers Paradise! \nThe Movies on the Esplanade program is free\, family-friendly fun on offer February & March 2026 on the Esplanade (outside the Paradise Centre entrance / Wahlburgers / near the Hanlan St roundabout)\, Surfers Paradise. \n• Sun 8 Feb Cool Runnings @ 7:00 pm\n• Sun 15 Feb The Proposal @ 7:00 pm\n• Sun 22 Feb A Dog’s Journey @ 7:00 pm\n• Sun 1 Mar Kangaroo @ 6:30 pm\n• Sun 8 Mar  A Minecraft Movie @ 6:30 pm\n• Sun 15 Mar No movie due to the T100 event\n• Sun 22 Mar  No movie due to the T100 event\n• Sun 29 Mar  Rise of the Guardians @ 6:30 pm (this event not delivered by Spectrum) \nGather your family and friends\, and take advantage of delicious food options available in the local area. \nEvent date: Sunday\, 8 March 2026\nDoors at 5pm\nMovie starts: 6:30 pm \nMovie: A Minecraft Movie\nFour misfits find themselves struggling with ordinary problems when they are suddenly pulled through a mysterious portal into the Overworld: a bizarre\, cubic wonderland that thrives on imagination. To get back home\, they’ll have to master this world while embarking on a magical quest with an unexpected\, expert crafter\, Steve. \nRating: PG\nLength: 101mins \nThanks to Cr Darren Taylor\, Division 10. \nFor more information including updates\, please see the Facebook Event page.
URL:https://spectrumentertainment.com.au/event/movies-on-the-esplanade-a-minecraft-movie/
LOCATION:Surfers Paradise People’s Esplanade\, 2 Cavill Avenue\, Surfers Paradise\, Qld\, 4217\, Australia
CATEGORIES:Outdoor Cinema
ATTACH;FMTTYPE=image/png:https://spectrumentertainment.com.au/wp-content/uploads/2026/02/0308-Minecraft.png
END:VEVENT
BEGIN:VEVENT
DTSTART;TZID=Australia/Melbourne:20260314T163000
DTEND;TZID=Australia/Melbourne:20260314T203000
DTSTAMP:20260423T075446
CREATED:20260203T064535Z
LAST-MODIFIED:20260203T064535Z
UID:1511-1773505800-1773520200@spectrumentertainment.com.au
SUMMARY:Movies Under the Stars - Kung Fu Panda 4
DESCRIPTION:What better way to spend an evening than outdoors watching a movie under the stars! \nThe City of Gold Coast Movies under the Stars program is free\, family-friendly fun on offer from September 2025 through to April 2026 right across the city. \nGather your family and friends\, pack a picnic or take advantage of delicious food options available in the local area. \n\nEvent date:  Saturday\, 14 March 2026\nLocation:  John Laws Park\, Burleigh Heads\nEvent starts at 4.30pm with kids’ activities\, face painting\, live music\, and with food trucks onsite.\nThen stay for the movie starting at 6.30pm!\n\nMovie: Kung Fu Panda 4\nPo is gearing up to become the spiritual leader of his Valley of Peace\, but also needs someone to take his place as Dragon Warrior. As such\, he will train a new kung fu practitioner for the spot and will encounter a villain called the Chameleon who conjures villains from the past. \nRating: PG\nLength: 94mins \n*** TICKETS NOT REQUIRED – JUST SHOW UP! *** \nFor more information including updates\, please see the Facebook Event page. Link is under Website (near map) below.
URL:https://spectrumentertainment.com.au/event/movies-under-the-stars-kung-fu-panda-4-3/
LOCATION:John Laws Park\, Goodwin Terrace\, Burleigh Heads\, Qld\, 4220\, Australia
CATEGORIES:Outdoor Cinema
ATTACH;FMTTYPE=image/png:https://spectrumentertainment.com.au/wp-content/uploads/2024/09/EVENTBRITE-Kung-Fu-Panda-4.png
END:VEVENT
BEGIN:VEVENT
DTSTART;TZID=Australia/Melbourne:20260315T183000
DTEND;TZID=Australia/Melbourne:20260315T183000
DTSTAMP:20260423T075446
CREATED:20260223T030426Z
LAST-MODIFIED:20260223T030426Z
UID:1589-1773599400-1773599400@spectrumentertainment.com.au
SUMMARY:Movies on the Esplanade - NO MOVIE\, due to the T100 event
DESCRIPTION:What better way to spend an evening than outdoors watching a movie on the Esplanade at Surfers Paradise! \nThe Movies on the Esplanade program is free\, family-friendly fun on offer February & March 2026 on the Esplanade\, Surfers Paradise (at the Hanlan St end\, near Walhburgers). \n• Sun 8 Feb Cool Runnings @ 7:00 pm\n• Sun 15 Feb The Proposal @ 7:00 pm\n• Sun 22 Feb A Dog’s Journey @ 7:00 pm\n• Sun 1 Mar Kangaroo @ 6:30 pm\n• Sun 8 Mar  A Minecraft Movie @ 6:30 pm\n• Sun 15 Mar No movie due to the T100 event\n• Sun 22 Mar  No movie due to the T100 event\n• Sun 29 Mar  Rise of the Guardians @ 6:30 pm (this event not delivered by Spectrum) \nGather your family and friends\, and take advantage of delicious food options available in the local area. \nEvent date: Sunday\, 15 March 2026\nDoors at 5pm\nMovie starts: 6:30 pm \nMovie: NO MOVIE – due to the T100 event \nRating:\nLength: mins \nThanks to Cr Darren Taylor\, Division 10. \nFor more information including updates\, please see the Facebook Event page.
URL:https://spectrumentertainment.com.au/event/movies-on-the-esplanade-no-movie-due-to-the-t100-event/
LOCATION:Surfers Paradise People’s Esplanade\, 2 Cavill Avenue\, Surfers Paradise\, Qld\, 4217\, Australia
CATEGORIES:Outdoor Cinema
ATTACH;FMTTYPE=image/png:https://spectrumentertainment.com.au/wp-content/uploads/2026/02/0315-nomovie.png
END:VEVENT
BEGIN:VEVENT
DTSTART;TZID=Australia/Melbourne:20260321T163000
DTEND;TZID=Australia/Melbourne:20260321T203000
DTSTAMP:20260423T075446
CREATED:20260311T054956Z
LAST-MODIFIED:20260311T054956Z
UID:1607-1774110600-1774125000@spectrumentertainment.com.au
SUMMARY:🐲 Movies Under the Stars - How to Train Your Dragon (2025)
DESCRIPTION:What better way to spend an evening than outdoors watching a movie under the stars! \nThe City of Gold Coast Movies under the Stars program is free\, family-friendly fun on offer from September 2025 through to April 2026 right across the city. \nGather your family and friends\, pack a picnic or take advantage of delicious food options available in the local area. \n\nEvent date:  Saturday\, 21 March 2026\nLocation:  Paradise Point Parklands\, Paradise Point\nEvent starts at 4.30pm with kids’ activities\, face painting\, live music\, and with food trucks onsite.\nThen stay for the movie starting at 6.30pm!\n\nMovie: How to Train Your Dragon (2025)\nOn the rugged isle of Berk\, a Viking boy named Hiccup defies centuries of tradition by befriending a dragon named Toothless. However\, when an ancient threat emerges that endangers both species\, Hiccup’s friendship with Toothless becomes the key to forging a new future. Together\, they must navigate the delicate path toward peace\, soaring beyond the boundaries of their worlds and redefining what it means to be a hero and a leader. \nRating: PG\nLength: 125mins \n*** TICKETS NOT REQUIRED – JUST SHOW UP! *** \nFor more information including updates\, please see the Facebook Event page. Link is under Website (near map) below.
URL:https://spectrumentertainment.com.au/event/%f0%9f%90%b2-movies-under-the-stars-how-to-train-your-dragon-2025/
LOCATION:Paradise Point Parklands\, The Esplanade\, Paradise Point\, Qld\, 4216\, Australia
CATEGORIES:Outdoor Cinema
ATTACH;FMTTYPE=image/png:https://spectrumentertainment.com.au/wp-content/uploads/2026/01/MUtS-EVENTBRITE-How-To-Train-Your-Dragon-2025.png
END:VEVENT
BEGIN:VEVENT
DTSTART;TZID=Australia/Melbourne:20260322T183000
DTEND;TZID=Australia/Melbourne:20260322T183000
DTSTAMP:20260423T075446
CREATED:20260223T030435Z
LAST-MODIFIED:20260223T030435Z
UID:1590-1774204200-1774204200@spectrumentertainment.com.au
SUMMARY:Movies on the Esplanade - NO MOVIE\, due to the T100 event
DESCRIPTION:What better way to spend an evening than outdoors watching a movie on the Esplanade at Surfers Paradise! \nThe Movies on the Esplanade program is free\, family-friendly fun on offer February & March 2026 on the Esplanade\, Surfers Paradise (at the Hanlan St end\, near Walhburgers). \n• Sun 8 Feb Cool Runnings @ 7:00 pm\n• Sun 15 Feb The Proposal @ 7:00 pm\n• Sun 22 Feb A Dog’s Journey @ 7:00 pm\n• Sun 1 Mar Kangaroo @ 6:30 pm\n• Sun 8 Mar  A Minecraft Movie @ 6:30 pm\n• Sun 15 Mar No movie due to the T100 event\n• Sun 22 Mar  No movie due to the T100 event\n• Sun 29 Mar  Rise of the Guardians @ 6:30 pm (this event not delivered by Spectrum) \nGather your family and friends\, and take advantage of delicious food options available in the local area. \nEvent date: Sunday\, 22 March 2026\nDoors at 5pm\nMovie starts: 6:30 pm \nMovie: NO MOVIE – due to the T100 event \nRating:\nLength: mins \nThanks to Cr Darren Taylor\, Division 10. \nFor more information including updates\, please see the Facebook Event page.
URL:https://spectrumentertainment.com.au/event/movies-on-the-esplanade-no-movie-due-to-the-t100-event-2/
LOCATION:Surfers Paradise People’s Esplanade\, 2 Cavill Avenue\, Surfers Paradise\, Qld\, 4217\, Australia
CATEGORIES:Outdoor Cinema
ATTACH;FMTTYPE=image/png:https://spectrumentertainment.com.au/wp-content/uploads/2026/02/0315-nomovie.png
END:VEVENT
BEGIN:VEVENT
DTSTART;TZID=Australia/Melbourne:20260328T163000
DTEND;TZID=Australia/Melbourne:20260328T203000
DTSTAMP:20260423T075446
CREATED:20260311T055141Z
LAST-MODIFIED:20260311T055219Z
UID:1608-1774715400-1774729800@spectrumentertainment.com.au
SUMMARY:Movies Under the Stars - Sing 🎤🎶
DESCRIPTION:What better way to spend an evening than outdoors watching a movie under the stars! \nThe City of Gold Coast Movies under the Stars program is free\, family-friendly fun on offer from September 2025 through to April 2026 right across the city. \nGather your family and friends\, pack a picnic or take advantage of delicious food options available in the local area. \n\nEvent date:  Saturday\, 28 March 2026\nLocation:  Palm Beach Parklands\, Palm Beach\nEvent starts at 4.30pm with kids’ activities\, face painting\, live music\, and with food trucks onsite.\nThen stay for the movie starting at 6.30pm!\n\nMovie: Sing\nIn a city of humanoid animals\, a hustling theater impresario’s attempt to save his theater with a singing competition becomes grander than he anticipates even as its finalists find that their lives will never be the same. \nRating: G\nLength: 108mins \n*** TICKETS NOT REQUIRED – JUST SHOW UP! *** \nFor more information including updates\, please see the Facebook Event page. Link is under Website (near map) below.
URL:https://spectrumentertainment.com.au/event/movies-under-the-stars-sing/
LOCATION:Palm Beach Parklands\, 945 Gold Coast Highway\, Palm Beach\, Qld\, 4221\, Australia
CATEGORIES:Outdoor Cinema
ATTACH;FMTTYPE=image/png:https://spectrumentertainment.com.au/wp-content/uploads/2026/03/EVENTBRITE-_Sing1.png
END:VEVENT
BEGIN:VEVENT
DTSTART;TZID=Australia/Melbourne:20260329T163000
DTEND;TZID=Australia/Melbourne:20260329T163000
DTSTAMP:20260423T075446
CREATED:20260223T030640Z
LAST-MODIFIED:20260223T030640Z
UID:1593-1774801800-1774801800@spectrumentertainment.com.au
SUMMARY:Outdoor Cinema in the Suburbs - Peter Rabbit 2
DESCRIPTION:Join us for a night under the stars as our free Outdoor Cinema in the Suburbs events return across Brisbane. ???? \nGrab a picnic blanket\, pack the snacks and round up your friends and family to watch your favourite flicks in a suburb near you! \nScreenings are free and open for all to attend. ??? \n?? Some parks will allow your furry friends to come along (check the event details on our website beforehand). \n?? Some screenings will have closed captions (check the event details on our website beforehand). \nFind out more about each Outdoor Cinema session: https://bnecouncil.cc/4iRNX3Y \nEvent date: Sunday\, 29 March 2026\nEvent starts at 4:30 pm with kids activities and food trucks. Movie will start 2 hours after event start time. \nMovie: Peter Rabbit 2\nThe loveable rogue is back in Peter Rabbit 2. Bea\, Thomas and the rabbits have made peace as a family but despite his best efforts\, Peter can’t seem to shake his mischievous reputation. Adventuring out of the garden\, Peter finds himself on the mean streets of the city where his mischief is appreciated. But when his furry family is put in danger\, Peter must figure out what kind of bunny he wants to be. \nRating: G\nLength: 90mins \nThanks to Cr Darren Taylor\, Division 10. \nFor more information including updates\, please see the Facebook Event page.
URL:https://spectrumentertainment.com.au/event/outdoor-cinema-in-the-suburbs-peter-rabbit-2/
LOCATION:Qld
CATEGORIES:Outdoor Cinema
ATTACH;FMTTYPE=image/jpeg:https://spectrumentertainment.com.au/wp-content/uploads/2026/02/Peter-Rabbit-2.jpg
END:VEVENT
BEGIN:VEVENT
DTSTART;TZID=Australia/Melbourne:20260329T183000
DTEND;TZID=Australia/Melbourne:20260329T203000
DTSTAMP:20260423T075446
CREATED:20260223T030401Z
LAST-MODIFIED:20260324T054305Z
UID:1591-1774809000-1774816200@spectrumentertainment.com.au
SUMMARY:✨Movies on the Esplanade - Wonka 🍫🥚
DESCRIPTION:What better way to spend an evening than outdoors watching a movie on the Esplanade at Surfers Paradise! \nThe Movies on the Esplanade program is free\, family-friendly fun on offer February & March 2026 on the Esplanade\, Surfers Paradise (at the Hanlan St end\, near Walhburgers). \n• Sun 8 Feb Cool Runnings @ 7:00 pm\n• Sun 15 Feb The Proposal @ 7:00 pm\n• Sun 22 Feb A Dog’s Journey @ 7:00 pm\n• Sun 1 Mar Kangaroo @ 6:30 pm\n• Sun 8 Mar  A Minecraft Movie @ 6:30 pm\n• Sun 15 Mar No movie due to the T100 event\n• Sun 22 Mar  No movie due to the T100 event\n• Sun 29 Mar  Wonka at 7:00pm \nGather your family and friends\, and take advantage of delicious food options available in the local area. \nEvent date: Sunday\, 29 March 2026\nDoors at 5pm\nMovie starts: 7:00pm \nMovie: Wonka\nWilly Wonka – chock-full of ideas and determined to change the world one delectable bite at a time – is proof that the best things in life begin with a dream\, and if you’re lucky enough to meet Willy Wonka\, anything is possible. \nRating: PG\nLength: 117mins \nThanks to Cr Darren Taylor\, Division 10. \nFor more information including updates\, please see the Facebook Event page at https://www.facebook.com/events/1847523019740282/
URL:https://spectrumentertainment.com.au/event/movies-on-the-esplanade-rise-of-the-guardians/
LOCATION:Surfers Paradise People’s Esplanade\, 2 Cavill Avenue\, Surfers Paradise\, Qld\, 4217\, Australia
CATEGORIES:Outdoor Cinema
ATTACH;FMTTYPE=image/png:https://spectrumentertainment.com.au/wp-content/uploads/2026/02/0328-Wonka.png
END:VEVENT
END:VCALENDAR